BEGIN:VCALENDAR
VERSION:2.0
PRODID:-//www.loftkoeln.de - ECPv5.14.2.1//NONSGML v1.0//EN
CALSCALE:GREGORIAN
METHOD:PUBLISH
X-WR-CALNAME:www.loftkoeln.de
X-ORIGINAL-URL:https://www.loftkoeln.de
X-WR-CALDESC:Veranstaltungen für www.loftkoeln.de
BEGIN:VTIMEZONE
TZID:UTC
BEGIN:STANDARD
TZOFFSETFROM:+0000
TZOFFSETTO:+0000
TZNAME:UTC
DTSTART:20200101T000000
END:STANDARD
END:VTIMEZONE
BEGIN:VEVENT
DTSTART;TZID=UTC:20200913T203000
DTEND;TZID=UTC:20200913T203000
DTSTAMP:20260424T153222
CREATED:20200826T040012Z
LAST-MODIFIED:20200914T102725Z
UID:15163-1600029000-1600029000@www.loftkoeln.de
SUMMARY:Moritz Preisler - Portrait // Live-Mitschnitt
DESCRIPTION:Moritz Preisler – Piano\nDavid Helm – Kontrabass\nJan Philipp – Schlagzeug \nUm Voranmeldung wird gebeten – Informationen zu Konzerten im LOFT während der Corona-Pandemie sowie zum Kartenerwerb hier!\nalso available in english \nKarten:\nnormal         12\,-€uro\nStudierende 5\,- €uro \n\nDer Pianist und Komponist Moritz Preisler stellt zwei seiner aktuellen Projekte vor. Anfang September wird er sein Masterstudium – corona-bedingt – mit einer nicht-öffentlichen Prüfung an der HfMT Köln abschließen.\nUngefähr eine Woche später präsentiert er das Prüfungsprogramm im LOFT.\nIn der ersten Hälfte des Abends spielt er Ausschnitte aus seinem neuen Klavier-Solo-Programm. Danach gibt es ein Set seines 2017 gegründeten Trios. In beiden Hälften werden fast ausschließlich neue Kompositionen zu hören sein. Die Musik bewegt sich zwischen Jazz\, zeitgenössischer Musik und improvisierter Musik. \nwww.moritzpreisler.com
URL:https://www.loftkoeln.de/event/moritz-preisler-portrait/
END:VEVENT
END:VCALENDAR