BEGIN:VCALENDAR
VERSION:2.0
PRODID:-//www.loftkoeln.de - ECPv5.14.2.1//NONSGML v1.0//EN
CALSCALE:GREGORIAN
METHOD:PUBLISH
X-WR-CALNAME:www.loftkoeln.de
X-ORIGINAL-URL:https://www.loftkoeln.de
X-WR-CALDESC:Veranstaltungen für www.loftkoeln.de
BEGIN:VTIMEZONE
TZID:Europe/Berlin
BEGIN:DAYLIGHT
TZOFFSETFROM:+0100
TZOFFSETTO:+0200
TZNAME:CEST
DTSTART:20220327T010000
END:DAYLIGHT
BEGIN:STANDARD
TZOFFSETFROM:+0200
TZOFFSETTO:+0100
TZNAME:CET
DTSTART:20221030T010000
END:STANDARD
END:VTIMEZONE
BEGIN:VEVENT
DTSTART;TZID=Europe/Berlin:20220204T203000
DTEND;TZID=Europe/Berlin:20220204T203000
DTSTAMP:20260422T161838
CREATED:20220107T163250Z
LAST-MODIFIED:20220107T163429Z
UID:19058-1644006600-1644006600@www.loftkoeln.de
SUMMARY:Moritz Preisler - Piano Solo
DESCRIPTION:Moritz Preisler – Piano  \n\nDas Konzert wird vor Publikum stattfinden\, weitere Informationen zu Konzerten während der Corona-Pandemie finden Sie hier\, Informationen zu den Preisen\, Karten-Reservierungen und den Öffnungszeiten hier.\nCHIASMA\nDie Idee zu diesem Klavier-Solo-Programm entstand 2019 und begann mit der Ansammlung von Kompositionen\, die die verschiedenen klanglichen Möglichkeiten\, „Vorteile“ und Eigenarten des Klaviers ausloten\, und zwar zunächst begrenzt auf das reine Spiel mit Tasten und Pedal. Die haptische Ausgangslage für die Musik bilden also die Beschaffenheit der Hände und der Aufbau der Tastatur. Der Titelname symbolisiert diesen thematischen Rahmen und das daraus resultierende Ausbalancieren von (A-)Symmetrie\, Komplementarität und deren „Überkreuzungen“ auf verschiedenen musikalischen Ebenen. \nhttps://www.moritzpreisler.com/ \n\n\nMoritz Preisler – Piano  \nPlease read our infos concerning concerts with an audience during the Corona pandemic here. Information about prices\, ticket reservations and our opening times can be found here. \nCHIASMA\nThe idea for this piano solo program was born in 2019 and began with the accumulation of compositions that explore the various sonic possibilities\, „advantages“ and peculiarities of the piano\, initially limited to pure playing with keys and pedal. The haptic starting point for the music is thus the texture of the hands and the structure of the keyboard. The title symbolizes this thematic framework and the resulting balancing of (a-)symmetry\, complementarity and their „crossings“ on different musical levels.
URL:https://www.loftkoeln.de/event/moritz-preisler-piano-solo/
END:VEVENT
END:VCALENDAR