BEGIN:VCALENDAR
VERSION:2.0
PRODID:-//www.loftkoeln.de - ECPv5.14.2.1//NONSGML v1.0//EN
CALSCALE:GREGORIAN
METHOD:PUBLISH
X-WR-CALNAME:www.loftkoeln.de
X-ORIGINAL-URL:https://www.loftkoeln.de
X-WR-CALDESC:Veranstaltungen für www.loftkoeln.de
BEGIN:VTIMEZONE
TZID:UTC
BEGIN:STANDARD
TZOFFSETFROM:+0000
TZOFFSETTO:+0000
TZNAME:UTC
DTSTART:20180101T000000
END:STANDARD
END:VTIMEZONE
BEGIN:VEVENT
DTSTART;TZID=UTC:20180622T203000
DTEND;TZID=UTC:20180622T203000
DTSTAMP:20260424T173357
CREATED:20180505T145412Z
LAST-MODIFIED:20180506T053624Z
UID:8517-1529699400-1529699400@www.loftkoeln.de
SUMMARY:Monsters For Breakfast feat. Mike McCormick
DESCRIPTION:Mascha Corman – Stimme\nThea Soti – Stimme\nMike McCormick – Laptop \n\nMonsters for Breakfast © Taisiia Chernyshova ; Mike McCormick © Rakel Emilie Emhjellen Paulsen\nKompositione für 4 Mikrofone\, 2 Stimmen und 1 Laptop \nDas Kölner Gesangsduo „Monsters For Breakfast“ wird elektronisch: Mascha Corman und Thea Soti präsentieren gemeinsam mit dem in Oslo lebenden kanadischen Komponisten und Laptop-Künstler Mike McCormick neues\, einzigartiges Programm. \nMonsters For Breakfast sind bekannt für ihre zweifellos mutige und fragile Besetzung aus zwei Stimmen\, die ohne Begleitinstrumente auf der Bühne stehen und ausschließlich ihre Stimmbänder verwenden: pur und akustisch.\nMit McCormick gehen die zwei Sängerinnen über „nackt und wild“ hinaus: Sie arbeiten mit 4 Mikrofonen und lassen hier und da ihre Stimmen in der Echtzeit durch die Live-Programmierung von McCormick bearbeiten\, transformieren\, auseinanderreißen\, in Lärm verwandeln\, pitchen. Mike McCormick ist ein junger\, aufstrebender Komponist und Gitarrist\, der gerade seine Master in Musiktechnologie in Oslo beendete und sich seit neustem mit der Supercollider-Programmierung befasst. Er ist in der skandinavischen Jazz- und zeitgenössischen kreativen Musikszene in verschiedenen Projekten aktiv. In seinen Kompositionen befasst er sich häufig mit den verschiedenen Ausdrucksqualitäten der Stimme\, indem er die gesamte Bandbreite nicht-traditioneller Techniken mit evokativen Texten in experimentellen und modernen instrumentalen Kontexten kombiniert. \nAm 24. Juni findet ein Workshop im Büro von ON Neue Musik Köln mit den KünstlerInnen statt.\nMehr Infos hier: www.on-cologne.de \nmonstersforbreakfast.com\nmikemccormickmusic.com
URL:https://www.loftkoeln.de/event/monsters-for-breakfast-feat-mike-mccormick/
END:VEVENT
END:VCALENDAR