BEGIN:VCALENDAR
VERSION:2.0
PRODID:-//www.loftkoeln.de - ECPv5.14.2.1//NONSGML v1.0//EN
CALSCALE:GREGORIAN
METHOD:PUBLISH
X-WR-CALNAME:www.loftkoeln.de
X-ORIGINAL-URL:https://www.loftkoeln.de
X-WR-CALDESC:Veranstaltungen für www.loftkoeln.de
BEGIN:VTIMEZONE
TZID:UTC
BEGIN:STANDARD
TZOFFSETFROM:+0000
TZOFFSETTO:+0000
TZNAME:UTC
DTSTART:20180101T000000
END:STANDARD
END:VTIMEZONE
BEGIN:VEVENT
DTSTART;TZID=UTC:20181022T203000
DTEND;TZID=UTC:20181022T203000
DTSTAMP:20260424T122323
CREATED:20180827T102918Z
LAST-MODIFIED:20180910T132713Z
UID:9326-1540240200-1540240200@www.loftkoeln.de
SUMMARY:Monday Meetings #9: David Virelles - Solo
DESCRIPTION:David Virelles – Piano \n\nMonday Meetings ist das neue Konzertformat des Kollektivs „jungesloft“. Bei zwölf selbst gestalteten und kuratierten Konzerten bringt das Kollektiv Musik und Kunst aller Genres\, abseits des Mainstreams ins LOFT. Präsentiert wird ein lebendiges Abbild der regionalen und internationalen Szene um improvisierte Musik\, Jazz und Tanz. \njungesloft sind: Mascha Corman\, Felix Hauptmann\, Florian Herzog\, Jonathan Hofmeister\, Johannes Ludwig\, Conrad Noll\, Sabeth Pérez\, Theresia Philipp und Janning Trumann \nDer Eintritt ist frei ! \n\n \n  \n  \n  \n  \n  \n  \n  \n  \nDer auf Kuba geborene Pianist und Komponist David Virelles ist in einem musikalischen Haus aufgewachsen. In jungen Jahren begann er das Klavierspiel zu lernen\, sich in die vielfältige kubanische Musiktradition zu vertiefen und entdeckte Jazzgrößen wie Bud Powell\, Thelonious Monk und Andrew Hill. In seiner Musik konzentriert Virelles sich darauf\, einen Sound zu entwickeln\, der auf den Prinzipien der Musik unterschiedlicher Teile der afrikanischen Diaspora basiert. Mit einer beachtlichen Anzahl an Alben hat sich der in New York wohnende Pianist die Aufgabe gestellt\, das Klavier mit den kubanischen Percussion-Instrumenten eins werden zu lassen. Eine Art bildhaftes Hybrid\, welches Vergangenheit\, Gegenwart und Zukunft in seinem magischen Realismus zu vereinen scheint. \n\n„Monday Meetings“ ist ein Projekt von Janning Trumann\nGefördert durch: \n                
URL:https://www.loftkoeln.de/event/monday-meetings-9-david-virelles-solo/
END:VEVENT
END:VCALENDAR