BEGIN:VCALENDAR
VERSION:2.0
PRODID:-//www.loftkoeln.de - ECPv5.14.2.1//NONSGML v1.0//EN
CALSCALE:GREGORIAN
METHOD:PUBLISH
X-WR-CALNAME:www.loftkoeln.de
X-ORIGINAL-URL:https://www.loftkoeln.de
X-WR-CALDESC:Veranstaltungen für www.loftkoeln.de
BEGIN:VTIMEZONE
TZID:UTC
BEGIN:STANDARD
TZOFFSETFROM:+0000
TZOFFSETTO:+0000
TZNAME:UTC
DTSTART:20180101T000000
END:STANDARD
END:VTIMEZONE
BEGIN:VEVENT
DTSTART;TZID=UTC:20180604T203000
DTEND;TZID=UTC:20180604T203000
DTSTAMP:20260424T190937
CREATED:20180426T064127Z
LAST-MODIFIED:20180427T132342Z
UID:8375-1528144200-1528144200@www.loftkoeln.de
SUMMARY:Monday Meetings #4: Jenny Berger Myhre & Mario Rom´s Interzone
DESCRIPTION:Monday Meetings ist das neue Konzertformat des Kollektivs „jungesloft“. Bei zwölf selbst gestalteten und kuratierten Konzerten bringt das Kollektiv Musik und Kunst aller Genres\, abseits des Mainstreams ins LOFT. Präsentiert wird ein lebendiges Abbild der regionalen und internationalen Szene um improvisierte Musik\, Jazz und Tanz. \njungesloft sind: Mascha Corman\, Felix Hauptmann\, Florian Herzog\, Jonathan Hofmeister\, Johannes Ludwig\, Conrad Noll\, Sabeth Pérez\, Theresia Philipp und Janning Trumann \nDer Eintritt ist frei ! \n\nJenny Berger Myhre – Solo \n© Urte Janus\nJenny arbeitet mit selbstgemachten Instrumenten und Instrumenten\, die sie zuhause findet. Sie kombiniert Turntables\, Kassettenrekorder und Alltagsgegenstände mit Aufnahmen von persönlichen Gesprächen\, Songfragmenten und Vogelgezwitscher. Jenny improvisiert in einem Rahmen von aufgenommenen Material\, akustischen Klängen\, ihrem Gesang und Gitarrenspiel. Was entsteht\, ist ein verzauberndes und abstraktes “Radio-Theater”. \n\nMario Rom´s Interzone \nMario Rom – Trompete\n Lukas Kranzelbinder – Bass\n Herbert Pirker – Schlagzeug \nWas bekommt man zu hören? Nonkonformistischen\, um die Ecke gedachten Alternativ-Jazz\, der alle gängigen Schemata beiseite wischt. Frei nach dem Albumtitel “Truth is Simple to Consume” geht wirklich alles: Psychedelic-Jazz\, Oldschool-Bop\, Trauermarsch-Ballade\, Rare-Groove Beats. Vor nichts graust es der Band\, alle drei Akteure packen beherzt zu\, lassen ihren Instrumenten freien Lauf\, ohne jedoch im Chaos zu enden. \n\n„Monday Meetings“ ist ein Projekt von Janning Trumann\nGefördert durch: \n                
URL:https://www.loftkoeln.de/event/monday-meetings-4-jenny-berger-myhre-mario-rom%c2%b4s-interzone/
END:VEVENT
END:VCALENDAR