BEGIN:VCALENDAR
VERSION:2.0
PRODID:-//www.loftkoeln.de - ECPv5.14.2.1//NONSGML v1.0//EN
CALSCALE:GREGORIAN
METHOD:PUBLISH
X-WR-CALNAME:www.loftkoeln.de
X-ORIGINAL-URL:https://www.loftkoeln.de
X-WR-CALDESC:Veranstaltungen für www.loftkoeln.de
BEGIN:VTIMEZONE
TZID:UTC
BEGIN:STANDARD
TZOFFSETFROM:+0000
TZOFFSETTO:+0000
TZNAME:UTC
DTSTART:20180101T000000
END:STANDARD
END:VTIMEZONE
BEGIN:VEVENT
DTSTART;TZID=UTC:20180507T203000
DTEND;TZID=UTC:20180507T203000
DTSTAMP:20260422T162249
CREATED:20180402T073102Z
LAST-MODIFIED:20180426T070424Z
UID:7994-1525725000-1525725000@www.loftkoeln.de
SUMMARY:Monday Meetings #3: Andrzejewski / Corman / Duck
DESCRIPTION:Max Andrzejewski – Schlagzeug\nMascha Corman – Stimme\nKatie Duck – Tanz \n\nMonday Meetings ist das neue Konzertformat des Kollektivs „jungesloft“. Bei zwölf selbst gestalteten und kuratierten Konzerten bringt das Kollektiv Musik und Kunst aller Genres\, abseits des Mainstreams ins LOFT. Präsentiert wird ein lebendiges Abbild der regionalen und internationalen Szene um improvisierte Musik\, Jazz und Tanz. \njungesloft sind: Mascha Corman\, Felix Hauptmann\, Florian Herzog\, Jonathan Hofmeister\, Johannes Ludwig\, Conrad Noll\, Sabeth Pérez\, Theresia Philipp und Janning Trumann \nDer Eintritt ist frei ! \n\nRhythm\, Dance’n’Voice. Drei Elemente\, drei Künstler\, drei Facetten. \nKatie\, Mascha und Max verbinden Tanz\, Stimme und Schlagzeug zu einem großen Ganzen\, im Vordergrund steht immer das Unvorhersehbare\, die Improvisation\, das Aufeinandertreffen verschiedener Ebenen. Bei allen Differenzen schafft es das Trio immer\, das verbindende Moment zu kreieren\, zu finden\, zu zeigen. \n\n„Monday Meetings“ ist ein Projekt von Janning Trumann\nGefördert durch: \n                
URL:https://www.loftkoeln.de/event/monday-meetings-3-andrzejewski-corman-duck/
END:VEVENT
END:VCALENDAR