BEGIN:VCALENDAR
VERSION:2.0
PRODID:-//www.loftkoeln.de - ECPv5.14.2.1//NONSGML v1.0//EN
CALSCALE:GREGORIAN
METHOD:PUBLISH
X-WR-CALNAME:www.loftkoeln.de
X-ORIGINAL-URL:https://www.loftkoeln.de
X-WR-CALDESC:Veranstaltungen für www.loftkoeln.de
BEGIN:VTIMEZONE
TZID:UTC
BEGIN:STANDARD
TZOFFSETFROM:+0000
TZOFFSETTO:+0000
TZNAME:UTC
DTSTART:20180101T000000
END:STANDARD
END:VTIMEZONE
BEGIN:VEVENT
DTSTART;TZID=UTC:20180423T203000
DTEND;TZID=UTC:20180423T203000
DTSTAMP:20260420T153628
CREATED:20180220T105204Z
LAST-MODIFIED:20180402T080402Z
UID:7654-1524515400-1524515400@www.loftkoeln.de
SUMMARY:Monday Meetings #2 Gabriel Coburger´s Pocket Band
DESCRIPTION:Gabriel Coburger – Saxophon\n John Schröder – Piano\n Giorgi Kiknadze – Bass\n Konrad Ullrich – Schlagzeug \n\nMonday Meetings ist das neue Konzertformat des Kollektivs „jungesloft“. Bei zwölf selbst gestalteten und kuratierten Konzerten bringt das Kollektiv Musik und Kunst aller Genres\, abseits des Mainstreams ins LOFT. Präsentiert wird ein lebendiges Abbild der regionalen und internationalen Szene um improvisierte Musik\, Jazz und Tanz. \njungesloft sind: Mascha Corman\, Felix Hauptmann\, Florian Herzog\, Jonathan Hofmeister\, Johannes Ludwig\, Conrad Noll\, Sabeth Pérez\, Theresia Philipp und Janning Trumann \n\nIn New York hat er sich jahrelang durch die Clubs gespielt\, in Deutschland u.a. durch sein Spiel mit der NDR-Bigband einen Namen gemacht\, und noch heute sieht man den Saxophonisten Gabriel Coburger sich nächterdings am liebsten die Seele aus dem Körper spielen. Jeder Ton\, jedes Geräusch erscheint als Repräsentant eines geheimnisvollen\, inneren Grundes. Durch die enge Verzahnung der 4 Musiker entsteht ein endloser Flow an Energie und Emotion. \nDer Eintritt ist frei ! \n\n„Monday Meetings“ ist ein Projekt von Janning Trumann\nGefördert durch: \n                 \n  \n 
URL:https://www.loftkoeln.de/event/monday-meetings-2-gabriel-coburger%c2%b4s-pocket-band/
END:VEVENT
END:VCALENDAR