BEGIN:VCALENDAR
VERSION:2.0
PRODID:-//www.loftkoeln.de - ECPv5.14.2.1//NONSGML v1.0//EN
CALSCALE:GREGORIAN
METHOD:PUBLISH
X-WR-CALNAME:www.loftkoeln.de
X-ORIGINAL-URL:https://www.loftkoeln.de
X-WR-CALDESC:Veranstaltungen für www.loftkoeln.de
BEGIN:VTIMEZONE
TZID:UTC
BEGIN:STANDARD
TZOFFSETFROM:+0000
TZOFFSETTO:+0000
TZNAME:UTC
DTSTART:20170101T000000
END:STANDARD
END:VTIMEZONE
BEGIN:VEVENT
DTSTART;TZID=UTC:20170221T203000
DTEND;TZID=UTC:20170221T203000
DTSTAMP:20260424T122410
CREATED:20170105T090757Z
LAST-MODIFIED:20170221T080849Z
UID:3616-1487709000-1487709000@www.loftkoeln.de
SUMMARY:MollNillesen trifft URGE Trio - Köln-Chicago-Koalition
DESCRIPTION:Udo Moll – modular synthesizer\, trompete\n Etienne Nillesen – trommel \nChristoph Erb – saxofon\n Keefe Jackson – holzblasinstrumente\n Tomeka Reid – cello \n\nDas URGE Trio des Chicagoer Saxofonisten und Bassklarinettisten Keefe Jackson ist auf Europa-Tour und trifft im LOFT auf das Ambient-Rausch-Duo MollNillesen.
URL:https://www.loftkoeln.de/event/mollnillesen-trifft-urge-trio-koln-chicago-koalition/
END:VEVENT
END:VCALENDAR