BEGIN:VCALENDAR
VERSION:2.0
PRODID:-//www.loftkoeln.de - ECPv5.14.2.1//NONSGML v1.0//EN
CALSCALE:GREGORIAN
METHOD:PUBLISH
X-WR-CALNAME:www.loftkoeln.de
X-ORIGINAL-URL:https://www.loftkoeln.de
X-WR-CALDESC:Veranstaltungen für www.loftkoeln.de
BEGIN:VTIMEZONE
TZID:UTC
BEGIN:STANDARD
TZOFFSETFROM:+0000
TZOFFSETTO:+0000
TZNAME:UTC
DTSTART:20050101T000000
END:STANDARD
END:VTIMEZONE
BEGIN:VEVENT
DTSTART;TZID=UTC:20050430T203000
DTEND;TZID=UTC:20050430T203000
DTSTAMP:20260423T044913
CREATED:20190309T105209Z
LAST-MODIFIED:20190309T105209Z
UID:11049-1114893000-1114893000@www.loftkoeln.de
SUMMARY:MINSARAH
DESCRIPTION:Florian Weber – piano\nJeff Denson – bass\nZiv Ravitz – drums \n\nNeuer Poetik-Jazz : Florian Weber zählt zu den erfolgreichsten Newcomer-Jazzpianisten Europas. Mit seinen 27 Jahren konzertierte der mehrfache Preisträger bereits in Japan\, USA und Europa. Der Pianist mit französischer Herkunft studierte Jazz an der Kölner Musikhochschule und erhielt danach eines der begehrten Stipendien bei der Berklee College of Music in Boston. Dort perfektionierte er sein Können mit Paul Bley\, JoAnne Brakeen und Richie Beirach. Kurz darauf gewann er den Steinway & Sons- Preis bei der Montreux Solo Piano Competition. Mit den Berklee-Absolventen Jeff Denson und Ziv Ravitz gründete er vor vier Jahren die Gruppe „Minsarah“. Der Amerikaner Jeff Denson begleitete Größen wie Phil Grenadier und Bob Moses. 2002 erhielt er den Berklee Outsanding Performer Award und den B.M. in Performance mit Cum Laude. Ziv Ravitz entstammt einer israelischen Musikerfamilie. Der Schlagzeuger lebt seit 2000 in den USA. Die erste „Minsarah“-CD vor zwei Jahren wurde von der Presse als „ … energetischer Überaschungswurf“ gefeiert. Mit großem Erfolg absolvierte die Gruppe „Minsarah“ mehrere Tourneen durch die USA und Europa. \nDer berühmte Jazzpianist John Taylor sagt über “Minsarah”: „Their music is fresh\, spontaneous and challenging. A very unique and personal sound“.
URL:https://www.loftkoeln.de/event/minsarah/
END:VEVENT
END:VCALENDAR