BEGIN:VCALENDAR
VERSION:2.0
PRODID:-//www.loftkoeln.de - ECPv5.14.2.1//NONSGML v1.0//EN
CALSCALE:GREGORIAN
METHOD:PUBLISH
X-WR-CALNAME:www.loftkoeln.de
X-ORIGINAL-URL:https://www.loftkoeln.de
X-WR-CALDESC:Veranstaltungen für www.loftkoeln.de
BEGIN:VTIMEZONE
TZID:Europe/Berlin
BEGIN:DAYLIGHT
TZOFFSETFROM:+0100
TZOFFSETTO:+0200
TZNAME:CEST
DTSTART:20060326T010000
END:DAYLIGHT
BEGIN:STANDARD
TZOFFSETFROM:+0200
TZOFFSETTO:+0100
TZNAME:CET
DTSTART:20061029T010000
END:STANDARD
END:VTIMEZONE
BEGIN:VEVENT
DTSTART;TZID=Europe/Berlin:20061217T203000
DTEND;TZID=Europe/Berlin:20061217T203000
DTSTAMP:20260423T111219
CREATED:20220207T105518Z
LAST-MODIFIED:20220210T172833Z
UID:19383-1166387400-1166387400@www.loftkoeln.de
SUMMARY:"MINGUS MOVES"
DESCRIPTION:Rainer Winterschladen – Trompete \nMatthias Muche – Posaune\nWolfgang Schmidtke – Saxophon/ Arrangements/Kompositionen\nGerd Dudek – Saxophon \nJens Thomas – Klavier \nChristian Ramond – Bass\nPeter Weiss – Schlagzeug \n\nDie Musik ist eine Auseinandersetzung mit dem Komponisten Charles Mingus und dessen Bandkonzept. Mingus hat\, wie wenige andere\, einen Weg gefunden\, einen hohen Grad an komponierten Strukturen mit maximaler improvisatorischer Freiheit zu verbinden. Ebenso sympathisch ist uns seine lebenslange Bindung an Duke Ellington\, bei gleichseitigem Drang zur Avantgarde.\n„Mingus Moves“ ist ein Projekt von Jazzpool NRW und wird gefördert vom Ministerpräsidenten des Landes NRW.
URL:https://www.loftkoeln.de/event/mingus-moves/
END:VEVENT
END:VCALENDAR