BEGIN:VCALENDAR
VERSION:2.0
PRODID:-//www.loftkoeln.de - ECPv5.14.2.1//NONSGML v1.0//EN
CALSCALE:GREGORIAN
METHOD:PUBLISH
X-WR-CALNAME:www.loftkoeln.de
X-ORIGINAL-URL:https://www.loftkoeln.de
X-WR-CALDESC:Veranstaltungen für www.loftkoeln.de
BEGIN:VTIMEZONE
TZID:UTC
BEGIN:STANDARD
TZOFFSETFROM:+0000
TZOFFSETTO:+0000
TZNAME:UTC
DTSTART:20080101T000000
END:STANDARD
END:VTIMEZONE
BEGIN:VEVENT
DTSTART;TZID=UTC:20080602T203000
DTEND;TZID=UTC:20080602T203000
DTSTAMP:20260420T114541
CREATED:20180820T122906Z
LAST-MODIFIED:20180821T140311Z
UID:9115-1212438600-1212438600@www.loftkoeln.de
SUMMARY:Mezartha
DESCRIPTION:Epaminondas Eadas – bouzouki\, gitarre\, frettlessgitarre\nHabib El berr – Gesang\, gembri\, percussion\nGert Kapo – piano\, keyboard\, elektronik\nSebastian Winne – Schlagzeug\, percussion\nFrank Kampschroer – bass \n\nEine Kreuzung musikalischer Wege\, in der orintal- mediterane Lebensklänge mit urbaner electrinica Ästhetik\, Afro- Balkan- beats und Improvisation verschmelzen um gewagt und unkonventionell ihren eigenen Ausdruck zu entdecken. Aus dem Verschiedenen und Fremdartigen will Mezartha die universelle Dynamik der Husik heraus kristallisieren und spürbar machen.
URL:https://www.loftkoeln.de/event/mezartha/
END:VEVENT
END:VCALENDAR