BEGIN:VCALENDAR
VERSION:2.0
PRODID:-//www.loftkoeln.de - ECPv5.14.2.1//NONSGML v1.0//EN
CALSCALE:GREGORIAN
METHOD:PUBLISH
X-WR-CALNAME:www.loftkoeln.de
X-ORIGINAL-URL:https://www.loftkoeln.de
X-WR-CALDESC:Veranstaltungen für www.loftkoeln.de
BEGIN:VTIMEZONE
TZID:UTC
BEGIN:STANDARD
TZOFFSETFROM:+0000
TZOFFSETTO:+0000
TZNAME:UTC
DTSTART:20120101T000000
END:STANDARD
END:VTIMEZONE
BEGIN:VEVENT
DTSTART;TZID=UTC:20120925T203000
DTEND;TZID=UTC:20120925T203000
DTSTAMP:20260424T104756
CREATED:20171012T064815Z
LAST-MODIFIED:20171012T064951Z
UID:5500-1348605000-1348605000@www.loftkoeln.de
SUMMARY:Maxime Bender Band – "Grenzenlos-Sans Frontières-Zonder Grenzen"
DESCRIPTION:Christoph Möckel – as.\nMaxime Bender – ts.\nRiaz Khabirpour – guit.\nSebastian Sternal – piano\nMarkus Braun – bass\nPaul Wiltgen – drums \n\nMaxime Bender ist mit der Kölner Szene eng verbunden. Zeit\, mal wieder das Luxemburg-Köln Sextett zu erleben. Im Mai haben sie beim Partner in Luxemburg\, dem neuen Festival „Like a Jazz Machine“ gespielt. \nUnterstützt wird „Grenzenlos-Sans Frontières-Zonder Grenzen“\nvon der Initiative Musik in Berlin\, dem NRW Kultursekretariat\, d.h. der Regierung in Düsseldorf und den Kulturämtern in Bonn\, Köln und Düsseldorf sowie Partnern und Förderern in den Nachbarländern.
URL:https://www.loftkoeln.de/event/maxime-bender-band-%e2%80%93-grenzenlos-sans-frontieres-zonder-grenzen/
END:VEVENT
END:VCALENDAR