BEGIN:VCALENDAR
VERSION:2.0
PRODID:-//www.loftkoeln.de - ECPv5.14.2.1//NONSGML v1.0//EN
CALSCALE:GREGORIAN
METHOD:PUBLISH
X-WR-CALNAME:www.loftkoeln.de
X-ORIGINAL-URL:https://www.loftkoeln.de
X-WR-CALDESC:Veranstaltungen für www.loftkoeln.de
BEGIN:VTIMEZONE
TZID:UTC
BEGIN:STANDARD
TZOFFSETFROM:+0000
TZOFFSETTO:+0000
TZNAME:UTC
DTSTART:20140101T000000
END:STANDARD
END:VTIMEZONE
BEGIN:VEVENT
DTSTART;TZID=UTC:20141119T203000
DTEND;TZID=UTC:20141119T203000
DTSTAMP:20260422T165740
CREATED:20170322T085020Z
LAST-MODIFIED:20170322T085020Z
UID:4331-1416429000-1416429000@www.loftkoeln.de
SUMMARY:Maurer–Ban-Maneri: FANTASM - CD Release Konzert
DESCRIPTION:Albrecht Maurer – Violine\nMat Maneri – Viola\nLucian Ban – Piano \n\nDas Album wurde im  Loft aufgenommen und erscheint auf dem Kölner Label Nemu Records \nSeit Maurer im  „Enesco Projekt“  von Lucian Ban teilnahm sind sie ein Trio. In den Jahren 2012 und 2013 entstanden Aufnahmen für ihr erstes Album hier im  Loft\, darüber hinaus spielte Maurer als Gast bei der ECM Release Tour der beiden New Yorker. Nun habe sie ihr erstes Album im Gepäck! Das Titelstück „Fantasm“ ist eine Komposition von Paul Motian\, mit dem Mat Maneri lange zusammengespielt hat. Nach 5 Konzerten in Transsilvanien und Bukarest sind sie nun in Deutschland unterwegs und freuen sich\, erneut im Loft zu Gast zu sein. \n„Die drei Musiker bieten ein lyrisches und doch kraftvolles Programm mit reichen Stimmungsbildern aus Transsilvanien und dem Flair der New York Down Town Avantgarde. Verziert wird Ihre Musik mit Begriffen wie «sound fractals\, microtonals\, jazz musings\, nyc downtown skronk\, 20th century european classical oder sounds of repose». Die beiden Anfang-40-Jährigen New Yorker sind auf dem Höhepunkt ihres Schaffens und treffen in Albrecht Maurer einen kongenialen Vertreter der europäischen Musikavantgarde.“ A-Train\, Berlin
URL:https://www.loftkoeln.de/event/maurer%e2%80%93ban-maneri-fantasm-cd-release-konzert/
END:VEVENT
END:VCALENDAR