BEGIN:VCALENDAR
VERSION:2.0
PRODID:-//www.loftkoeln.de - ECPv5.14.2.1//NONSGML v1.0//EN
CALSCALE:GREGORIAN
METHOD:PUBLISH
X-WR-CALNAME:www.loftkoeln.de
X-ORIGINAL-URL:https://www.loftkoeln.de
X-WR-CALDESC:Veranstaltungen für www.loftkoeln.de
BEGIN:VTIMEZONE
TZID:UTC
BEGIN:STANDARD
TZOFFSETFROM:+0000
TZOFFSETTO:+0000
TZNAME:UTC
DTSTART:20170101T000000
END:STANDARD
END:VTIMEZONE
BEGIN:VEVENT
DTSTART;TZID=UTC:20170903T203000
DTEND;TZID=UTC:20170903T203000
DTSTAMP:20260422T161952
CREATED:20170719T090051Z
LAST-MODIFIED:20170724T113750Z
UID:5011-1504470600-1504470600@www.loftkoeln.de
SUMMARY:Masterabschlusskonzert Marlies Debacker - Piano
DESCRIPTION:Marlies Debacker ist eine belgische Pianistin die im Bereich der frei improvisierten Musik\, des Free Jazz und der Neuen Musik tätig ist. In ihrer Arbeit widmet sie sich vor allem der Beziehung zwischen freier Improvisation und zeitgenössischer komponierter Musik – dies wird auch dadurch deutlich\, dass dieses Konzert der Abschluss ihres zweijährigen Masterstudiums in Jazz-Klavier und Improvisation an der HfMT Köln ist – ab Herbst setzt Debacker ihre Studien an der Folkwang Universität mit dem Master-Studiengang „Neue Musik“ fort. \n\n1. Set\n Marlies Debacker – piano solo \n\n\n\nIm ersten Set des Konzerts wird Debacker ein Solo-Set zum Besten geben. In ihren Solo-Improvisationen beschäftigt sie sich intensiv mit dem Ausloten der Klangmöglichkeiten des Pianos. So versucht sie durch differenziertes Tasten- und Pedalspiel sowie durch erweiterte Spieltechniken\, “inside piano”-Spiel und präpariertes Klavier das Piano noch farbenreicher und orchestraler zu nutzen. Die Musik bewegt sich zwischen kompletter Verfremdung des Klavierklangs\, pulsierenden Sounds\, perkussiven und filigranen Texturen bis hin zu feinstem zeitgenössischem Klavierspiel oder energetischem Jazz. In ihrem Spiel schöpft Debacker aus ihrer Beschäftigung mit der Musik von Mauricio Kagel\, Karel Goeyvaerts\, Mark Andre\, Georges Aperghis\, Beat Futter und vielen weiteren Komponisten jüngerer Musik.\n\n  \n\n2. Set\n Marlies Debacker – piano\n Carl Ludwig Hübsch – tuba\n Florian Zwißler – analog synth\n Etienne Nillesen – prepared snare drum \nFür das zweite Set hat Debacker ein Ensemble aus Musikern zusammengestellt\, mit denen sie in den vergangenen Jahren bereits einige Konzerte bestritten hat und die ähnlich wie sie an der Schnittstelle aktueller Musikströmungen positioniert sind. Auch hier darf man sich auf feine Improvisationen freuen\, die ihre Inspiration vor allem aus Neuer und elektronischer Musik schöpfen. Etienne Nillesen\, Florian Zwissler und Debacker sind Mitglieder von „IMPAKT“\, dem jungen Kölner Kollektiv für aktuelle Musik. Mit Nillesen spielt Debacker außerdem im Ensemble „UNVIEL“ sowie weiteren Formationen. Carl Ludwig Hübsch und Debacker gestalten gemeinsam die Konzertreihe „Plattform Nicht Dokumentierbarer Ereignisse“. Es wird also ein Konzert mit Musikern\, die sich aus verschiedensten Kontexten bereits musikalisch sehr gut kennen – in dieser Besetzung ist das Konzert jedoch eine Premiere. \n\n\n\n\n  \n  \n 
URL:https://www.loftkoeln.de/event/masterabschlusskonzert-marlies-debacker-piano/
END:VEVENT
END:VCALENDAR