BEGIN:VCALENDAR
VERSION:2.0
PRODID:-//www.loftkoeln.de - ECPv5.14.2.1//NONSGML v1.0//EN
CALSCALE:GREGORIAN
METHOD:PUBLISH
X-WR-CALNAME:www.loftkoeln.de
X-ORIGINAL-URL:https://www.loftkoeln.de
X-WR-CALDESC:Veranstaltungen für www.loftkoeln.de
BEGIN:VTIMEZONE
TZID:UTC
BEGIN:STANDARD
TZOFFSETFROM:+0000
TZOFFSETTO:+0000
TZNAME:UTC
DTSTART:20150101T000000
END:STANDARD
END:VTIMEZONE
BEGIN:VEVENT
DTSTART;TZID=UTC:20150908T203000
DTEND;TZID=UTC:20150908T203000
DTSTAMP:20260422T162425
CREATED:20170303T085757Z
LAST-MODIFIED:20170303T085757Z
UID:4051-1441744200-1441744200@www.loftkoeln.de
SUMMARY:Master Abschlusskonzert Jakob Kühnemann - Bass: Ensemble Contrejour
DESCRIPTION:Christoph Möckel – sax\nHolger Werner – sax/bcl.\nJens Böckamp – sax\, cl.\n Theresia Philipp – sax\nChristoph Moschberger – trp.\nBastian Stein – trp.\nKlaus Heidenreich – trb.\nSimon Seidl – piano\nJakob Kühnemann – bass\n Silvio Morger – dr. \n\nGegensätze gehören zusammen. Manchmal sind sie einander näher\, als wir auf den ersten Blick für möglich halten. Gegenlicht (fr: Contrejour) ist eine Art Licht\, das bei dem\, der hinein schaut\, einen geblendeten Eindruck von tiefer Dunkelheit hervorruft. So hat jeder Tag seine Nachtseite. Nicht nur als Wissen von etwas\, das kommen wird\, sondern als Möglichkeit\, die ständig präsent ist und von der man nicht genau weiß\, ob sie warten wird\, bis sie an die Reihe kommt. Plötzlich schiebt sich etwas dazwischen\, mitten hinein in den ansonsten untadeligen Tag. Manches Stück erinnert noch entfernt an den Sommer und schickt schon einen melancholischen Blick auf den Winter hin. Ein anderes ist in eine intensiv leuchtende van-Gogh-Farbe getaucht\, eine spätsommerliche Tönung\, die alles Hochsommerliche bald schon vergessen haben wird. Diese Musik hat es mit dem Gegensatz selbst aufgenommen und ist mit ihm in ein anregendes Spiel geraten. Wie ein Jazz-Bassist\, der im Grunde seines Herzens auch ein später Romantiker ist.
URL:https://www.loftkoeln.de/event/master-abschlusskonzert-jakob-kuhnemann-bass-ensemble-contrejour/
END:VEVENT
END:VCALENDAR