BEGIN:VCALENDAR
VERSION:2.0
PRODID:-//www.loftkoeln.de - ECPv5.14.2.1//NONSGML v1.0//EN
CALSCALE:GREGORIAN
METHOD:PUBLISH
X-WR-CALNAME:www.loftkoeln.de
X-ORIGINAL-URL:https://www.loftkoeln.de
X-WR-CALDESC:Veranstaltungen für www.loftkoeln.de
BEGIN:VTIMEZONE
TZID:UTC
BEGIN:STANDARD
TZOFFSETFROM:+0000
TZOFFSETTO:+0000
TZNAME:UTC
DTSTART:20170101T000000
END:STANDARD
END:VTIMEZONE
BEGIN:VEVENT
DTSTART;TZID=UTC:20170222T203000
DTEND;TZID=UTC:20170222T203000
DTSTAMP:20260422T143224
CREATED:20170104T110456Z
LAST-MODIFIED:20170104T123324Z
UID:3609-1487795400-1487795400@www.loftkoeln.de
SUMMARY:Martin Gasser Quartett
DESCRIPTION:Martin Gasser – Sax\nFelix Hauptmann – Piano\nAlex Dawo – Bass\n\nLeif Berger – Drums \n\n© Johanna Klein\nEin Saxophonist als Frontline\, die Rhythmusgruppe als Begleitband für den Solisten. Das klassische Bild einer durchaus konventionellen Besetzung im Jazz. Dieses Bild wird im Martin Gasser Quartett neu gezeichnet. Die vier Musiker die sich im Herbst 2014 kennengelernt haben fanden schnell einen musikalischen Konsens und nahmen dies zum Anlass das Quartett zu gründen. Im Zentrum steht die stimmige Zusammenführung von Thema und Solos\, die jedem Stück eine eigene\, einzigartige Atmosphäre verleihen. Fließende Übergänge lassen Formteile verschmelzen\, richten den Fokus jedoch immer auf ein neues hinzukommendes Element. Blindes Verständnis und die Fähigkeit auf Nuancen zu reagieren beleben die Stücke und verändern ihre Struktur ohne jedoch den gesamten Spannungsbogen außer Acht zu lassen. Lyrische Melodien entwickeln sich zu gewaltigen Klangfeldern und führen wiederum zu perkussiven Kollektivsoli. Die Musik entwickelt sich\, alles ist erlaubt\, nichts verboten.
URL:https://www.loftkoeln.de/event/martin-gasser-quartett/
END:VEVENT
END:VCALENDAR