BEGIN:VCALENDAR
VERSION:2.0
PRODID:-//www.loftkoeln.de - ECPv5.14.2.1//NONSGML v1.0//EN
CALSCALE:GREGORIAN
METHOD:PUBLISH
X-WR-CALNAME:www.loftkoeln.de
X-ORIGINAL-URL:https://www.loftkoeln.de
X-WR-CALDESC:Veranstaltungen für www.loftkoeln.de
BEGIN:VTIMEZONE
TZID:UTC
BEGIN:STANDARD
TZOFFSETFROM:+0000
TZOFFSETTO:+0000
TZNAME:UTC
DTSTART:20170101T000000
END:STANDARD
END:VTIMEZONE
BEGIN:VEVENT
DTSTART;TZID=UTC:20170713T203000
DTEND;TZID=UTC:20170713T203000
DTSTAMP:20260420T165501
CREATED:20170428T061740Z
LAST-MODIFIED:20170706T152733Z
UID:4787-1499977800-1499977800@www.loftkoeln.de
SUMMARY:Marius Peters Trio feat. Heiner Wiberny - Live CD-Recording
DESCRIPTION:Stefan Rey – KontrabassFabian Künzer – DrumsMarius Peters – Gitarren\nSpecial Guest:\nHeiner Wiberny – Saxofon/Flöte\nJoon Laukamp – Fiddle\nBernd Lechtenfeld – Posaune \n \n\nMit dem Rüstzeug der klassischen Gitarrentechnik und dem offenen Geist der Improvisation strebt Marius Peters eine Vielseitigkeit an\, wie man sie bei Solo-Improvisatoren bestenfalls von Pianisten kennt.Dafür wurde er 2015 mit drei internationalen Jazzpreisen ausgezeichnet.Seine Mitmusiker sind ebenfalls Meister ihres Fachs und bringen umfassende Auszeichnungen und Bühnenerfahrungen mit ein. Ideenreiche und ausgearbeitete Arrangements sind Grundstein für die Entdeckung verwobener Melodien und eingängiger Stücke\, die für jeden Hörer eine unerwartete Wendung nehmen können.Diesmal bringt das Trio mit Heiner Wiberny einen „Special Guest“ mit.Heiner Wiberny: fast drei Jahrzehnte lang war Heiner Wiberny eine Säule der WDR- Bigband Köln als erfahrener\, kompetenter und international renommierter Lead-Altist. Die Zusammenarbeit mit den international renommiertesten Gastdirigenten\, Komponisten\, Arrangeuren und Gastsolisten\, 6 Grammy-Nominierungen in den USA\, 2 Grammys: 2007 und 2008 sprechen für sich.Den Zuhörer erwartet ein Abend mit dem Klang verschiedener Instrumente\, die in variantenreicher Art gespielt werden – immer auf der Suche nach dem optimalen Klang für die jeweilige Stimmung des Stücks. Jeder Musiker bereichert das Programm mit Eigenkompositionen. Zugleich entertaint Peters in seiner humorvollen Art und erzählt einige Geschichten zur Entstehung und zur Aufführung der Stücke. \nmariuspeters.de\n\n  \nwiberny.deVideo: https://www.youtube.com/watch?v=j7Hx7ljbuG8&list=PLodw72366fU9q7WpXNjUNyf1G1wfO1lwd\n\n\n 
URL:https://www.loftkoeln.de/event/marius-peters-trio-feat-heiner-wiberny-live-cd-recording/
END:VEVENT
END:VCALENDAR