BEGIN:VCALENDAR
VERSION:2.0
PRODID:-//www.loftkoeln.de - ECPv5.14.2.1//NONSGML v1.0//EN
CALSCALE:GREGORIAN
METHOD:PUBLISH
X-WR-CALNAME:www.loftkoeln.de
X-ORIGINAL-URL:https://www.loftkoeln.de
X-WR-CALDESC:Veranstaltungen für www.loftkoeln.de
BEGIN:VTIMEZONE
TZID:Europe/Berlin
BEGIN:DAYLIGHT
TZOFFSETFROM:+0100
TZOFFSETTO:+0200
TZNAME:CEST
DTSTART:20240331T010000
END:DAYLIGHT
BEGIN:STANDARD
TZOFFSETFROM:+0200
TZOFFSETTO:+0100
TZNAME:CET
DTSTART:20241027T010000
END:STANDARD
END:VTIMEZONE
BEGIN:VEVENT
DTSTART;TZID=Europe/Berlin:20240430T200000
DTEND;TZID=Europe/Berlin:20240430T200000
DTSTAMP:20260423T201401
CREATED:20240306T150524Z
LAST-MODIFIED:20240307T122834Z
UID:26506-1714507200-1714507200@www.loftkoeln.de
SUMMARY:Mareike Wiening Quintet | Release: "Reveal"
DESCRIPTION:Rich Perry – Tenorsaxophon\nLorenz Kellhuber – Piano\nAlex Goodman – Gitarre\nPhil Donkin – Bass\nMareike Wiening – Schlagzeug\n \n\n(english: see below) \nAb Januar 2024 beginnen alle Konzerte im LOFT um 20.00 Uhr.\nAusnahmen – z.B. Sonntags – sind möglich.\nWeitere Informationen zu den Preisen\, Karten-Reservierungen und den Öffnungszeiten finden Sie hier.\n\nMareike Wiening\n„Zukunftsorientiert\, frisch und mit purer Ehrlichkeit präsentiert“\nNew York City Jazz Record \nReveal heißt das neue Programm der Deutschen Schlagzeugerin Mareike Wiening und ihrem US-amerikanischen Quintet\, welches 2022 beim Deutschen Jazzpreis als Band des Jahres nominiert war.\nInspiriert ist die Musik nicht nur von den Einflüssen des Big Apple\, sondern auch von Wienings früherer Lebensstation: Skandinavien. Ein subtiles\, melodiefreudiges Gesamtkunstwerk voller nuancen- und variantenreicher Klanggedichte\, mal kammermusikalisch\, mal spielerisch tänzelnd im Walzer\, dann wieder zupackend mit groovenden Improvisationen. Der musikalische Dialog zwischen Solist und Begleitung ist dabei ein weiteres Merkmal der Band: das Geben und Nehmen\, die emotionale Reaktion oder die kreativen und ungeahnten Überraschungen\, die durch Spontanität und aus dem Moment heraus entstehen: „Wiening hat ein wahrhaft transatlantisches Jazzprojekt auf die Beine gestellt. Jedes ihrer Stücke ist ein komplettes\, anspruchsvolles\, elegantes Kunstwerk.“ JazzTimes \n\nMareike Wiening Quintet © Luke Marantz\n„Auf dem Album\, geprägt von einer entspannten und resolute Stimmung\, flitzt und fließt Wiening mit der geschmeidigen Flexibilität eines Tänzers.“\nDownbeat Magazine \n„Wiening ist mit ihren Stücken eine bemerkenswert eigenständige Komponistin\, die den Bebop bis zu freien Spielformen erweitert und souverän die ausgetüfteltsten ungeraden Metren beherrscht.“\nFrankfurter Allgemeine \nwww.mareikewiening.com \nwww.greenleafmusic.com \nhttps://greenleafmusic.com/artists/mareikewiening/reveal \n\nKlingt so: \n\n\n\n\nRich Perry – tenor saxophone\nLorenz Kellhuber – piano\nAlex Goodman – guitar\nPhil Donkin – bass\nMareike Wiening – drums \nFrom January 2024 on\, the concerts at the LOFT start round 8.00 pm\nExceptions – e.g. on Sundays – are possible.\nFurther information about prices\, ticket reservationsand our opening times can be found here.\n„Future-oriented\, fresh and presented with pure honesty“\nNew York City Jazz Record \nReveal is the name of the new program by German drummer Mareike Wiening and her US quintet\, which was nominated for Band of the Year at the German Jazz Awards in 2022.\nThe music is inspired not only by the influences of the Big Apple\, but also by Wiening’s former home: Scandinavia. A subtle\, melodically joyful synthesis of the arts full of nuanced and varied sound poems\, sometimes chamber music\, sometimes playfully dancing in the\nwaltz\, then again with grooving improvisations. The musical dialog between soloist and accompaniment is another characteristic of the band: the give and take\, the emotional reaction or the creative and unexpected surprises that arise through spontaneity and out of the moment: „Wiening has put together a truly transatlantic jazz project. Each of her pieces is a complete\, sophisticated\, elegant work of art.“ JazzTimes \n\n„On the album\, characterized by a relaxed and resolute mood\, Wiening flits and flows with the supple flexibility of a dancer.“\nDownbeat Magazine \n„With her pieces\, Wiening is a remarkably independent composer who extends bebop to free forms and masters the most sophisticated odd meters.“\nFrankfurter Allgemeine
URL:https://www.loftkoeln.de/event/mareike-wiening-quintet/
END:VEVENT
END:VCALENDAR