BEGIN:VCALENDAR
VERSION:2.0
PRODID:-//www.loftkoeln.de - ECPv5.14.2.1//NONSGML v1.0//EN
CALSCALE:GREGORIAN
METHOD:PUBLISH
X-WR-CALNAME:www.loftkoeln.de
X-ORIGINAL-URL:https://www.loftkoeln.de
X-WR-CALDESC:Veranstaltungen für www.loftkoeln.de
BEGIN:VTIMEZONE
TZID:UTC
BEGIN:STANDARD
TZOFFSETFROM:+0000
TZOFFSETTO:+0000
TZNAME:UTC
DTSTART:20150101T000000
END:STANDARD
END:VTIMEZONE
BEGIN:VEVENT
DTSTART;TZID=UTC:20150528T203000
DTEND;TZID=UTC:20150528T203000
DTSTAMP:20260424T104617
CREATED:20170303T125036Z
LAST-MODIFIED:20170303T125036Z
UID:4085-1432845000-1432845000@www.loftkoeln.de
SUMMARY:Manfred Niehaus (1933–2013) – Eine Hommage
DESCRIPTION:Lothar Burghaus – bar.sax\, bcl.\nPeter Hölscher – projektion\nSusanne Kessel – piano\nLucia Mense – recorder\nHans-Martin Müller – fl.\nMichael Pape – perc.\nCora Schmeiser – voice\nMarei Seuthe – cello\, voice\nDietmar Bonnen – dir.\, toy piano\, piano\, akk. \n\nOhne den langjährigen Ehrenfelder Nachbarn\, der das Loft nach seinem Umzug von Berg Gladbach nach Köln zu seinem musikalischen Wohnzimmer erkoren hatte\, sähe die Kölner Musikszene ganz anders aus. Manfred Niehaus war die rechte Hand von Bernd Alois Zimmermann\, für den WDR der Produzent von Karlheinz Stockhausen\, Freund und Produzent von John Cage\, er war Mitglied der Gruppe 8\, spielte in der Band von Carla Bley\, während in seinen Theatergruppen Jürgen Flimm und Eberhard Feik spielten\, er war Redakteur für Neue Musik beim WDR und später Begründer und langjähriger Leiter der Jazz Redaktion\, doch vor allem natürlich war er Komponist von Opern\, Konzerten\, Kammermusik\, Chormusik usw. Mit Dietmar Bonnen arbeitete Niehaus über 25 Jahre zusammen\, jeweils in den Ensembles des anderen oder als eine Hälfte des Russisch-Deutschen Komponisten Quartetts. Bonnen stellte also für das heutige Hommage-Konzert ein Ensemble aus befreundeten Musikern zusammen\, die in den letzten Jahren immer wieder mit Niehaus zusammengearbeitet haben. \nEin paar Tage vor seinem Tod übergab Manfred Niehaus ein Stück an Bonnen\, um das dieser ihn für sein neues Trio gebeten hatte. Dieses Stück wird heute ebenso erklingen wie eine frühe Komposition aus den 60er Jahren.
URL:https://www.loftkoeln.de/event/manfred-niehaus-1933%e2%80%932013-%e2%80%93-eine-hommage/
END:VEVENT
END:VCALENDAR