BEGIN:VCALENDAR
VERSION:2.0
PRODID:-//www.loftkoeln.de - ECPv5.14.2.1//NONSGML v1.0//EN
CALSCALE:GREGORIAN
METHOD:PUBLISH
X-WR-CALNAME:www.loftkoeln.de
X-ORIGINAL-URL:https://www.loftkoeln.de
X-WR-CALDESC:Veranstaltungen für www.loftkoeln.de
BEGIN:VTIMEZONE
TZID:Europe/Berlin
BEGIN:DAYLIGHT
TZOFFSETFROM:+0100
TZOFFSETTO:+0200
TZNAME:CEST
DTSTART:20220327T010000
END:DAYLIGHT
BEGIN:STANDARD
TZOFFSETFROM:+0200
TZOFFSETTO:+0100
TZNAME:CET
DTSTART:20221030T010000
END:STANDARD
END:VTIMEZONE
BEGIN:VEVENT
DTSTART;TZID=Europe/Berlin:20220911T203000
DTEND;TZID=Europe/Berlin:20220911T203000
DTSTAMP:20260423T143000
CREATED:20220729T113316Z
LAST-MODIFIED:20220830T064951Z
UID:21270-1662928200-1662928200@www.loftkoeln.de
SUMMARY:MALSTROM | Klaus Dieter Release-Tour
DESCRIPTION:Florian Walter – Saxophon\nAxel Zajac – E-Gitarre\nJo Beyer – Schlagzeug\n \n\n(english: see below) \nInformationen zu den Preisen\, Karten-Reservierungen und den Öffnungszeiten finden Sie hier.\n© Dana Schmidt\nEin wirbelnder Sog der in einem erloschenen unterirdischen Riesenvulkan verschwindet. Es ist ein ewiges Wechselspiel zwischen dem Abstürzen in die unendliche Tiefe des Meeres und dem Reiz des Risikos am Rande des Wirbels die Gefahr zu genießen. Sicherheit gibt es in jedem Fall nicht. Fische und anderes Meeresgetier meiden instinktiv die Nähe des Strudels\, Menschen hingegen werden immer wieder Opfer ihrer nicht zu bezähmenden Neugier und wagen sich zu nahe heran. \nGewinner des europäischen Burghauser Jazzpreises 2015\nGewinner der internationalen Getxo Jazz Competition 2017\nGewinner des internationalen Biberacher Jazzpreises 2018 \nwww.malstrom-music.com \n„Der vielversprechendste Wirbel auf der europäischen Bühne.“\nskjazz.sk\, Ján Hocek \n„The album never lets up. It defies easy categorization. It is a wild\, unvaccinated hodge-lodge of tracks that is light years away from anything one might describe as relaxing. But\, you’ve got to admire the band’s energy and vigor“\nLondon Jazz News\, Rob Mallows \n„Nein\, dieses Trio lässt sich nicht festnageln\, und das macht ihr neues Album so spannend. Da lösen sich deftige Grooves in frei fließende Klangkaskaden auf\, aus denen sich unversehens eine betörende Melodie herausschält. Ein Genre-Mix ist das allerdings nicht – eher Genre-Hopping\, bei dem immer wieder ein ziemlich alberner Humor um die Ecke lugt. […] Das ist Jazz mit hohem Anspruch\, der beim Hören sehr viel Spaß macht.“\nBR24 Kulturnachricht \n„It’s like having a drill hole into your head and injecting an energy drink directly into your cerebral cortex. […] Here comes the shape of power jazz trio.“\nJazz Tokyo\, Takeshi Goda \n\n\nFlorian Walter – saxophone\nAxel Zajac – electric guitar\nJo Beyer – drums \nInformation about prices\, ticket reservations and our opening times can be found here. \nThe Malstrom devours everything in its reach\, be it light\, sound or matter. It sucks everything into its vortex\, drawing it deeper and deeper into the very center of the Malstrom. But what do you find at the core\, at the very bottom of the swirl? The eye of the storm? A void\, sheer nothingness? Is it a place of calmness that contrasts the furious edges? Does the Malstrom ever end?\nAnd most importantly: Are you ready to find out? \nWINNER OF „Europäischer Burghauser Jazzpreis 2015“\nWINNER OF „Int. Getxo Jazz Competition 2017“\nWINNER OF „Int. Biberacher Jazzpreis 2018“ \n„The most promising vortex on the European stage.“\nskjazz.sk\, Jan Hocek \n„The album never lets up. It defies easy categorization. It is a wild\, unvaccinated hodge-lodge of tracks that is light years away from anything one might describe as relaxing. But\, you’ve got to admire the band’s energy and vigor“\nLondon Jazz News\, Rob Mallows \n„No\, this trio can’t be pinned down and that’s what makes their new album so exciting. There\, hefty grooves dissolve grooves dissolve into free-flowing cascades of sound\, from which a beguiling melody suddenly emerges. A genre-mix – rather genre-hopping\, with a rather silly humor peeking around the corner again and again. peeking around the corner. […] This is jazz with high standards\, which is a lot of fun to listen to.“\nBR24 Kulturnachricht \n„It’s like having a drill hole into your head and injecting an energy drink directly into your cerebral  cortex. […] Here comes the shape of power jazz trio.“\nJazz Tokyo\, Takeshi Goda
URL:https://www.loftkoeln.de/event/malstrom-3/
END:VEVENT
END:VCALENDAR