BEGIN:VCALENDAR
VERSION:2.0
PRODID:-//www.loftkoeln.de - ECPv5.14.2.1//NONSGML v1.0//EN
CALSCALE:GREGORIAN
METHOD:PUBLISH
X-WR-CALNAME:www.loftkoeln.de
X-ORIGINAL-URL:https://www.loftkoeln.de
X-WR-CALDESC:Veranstaltungen für www.loftkoeln.de
BEGIN:VTIMEZONE
TZID:Europe/Berlin
BEGIN:DAYLIGHT
TZOFFSETFROM:+0100
TZOFFSETTO:+0200
TZNAME:CEST
DTSTART:20230326T010000
END:DAYLIGHT
BEGIN:STANDARD
TZOFFSETFROM:+0200
TZOFFSETTO:+0100
TZNAME:CET
DTSTART:20231029T010000
END:STANDARD
END:VTIMEZONE
BEGIN:VEVENT
DTSTART;TZID=Europe/Berlin:20230306T203000
DTEND;TZID=Europe/Berlin:20230306T203000
DTSTAMP:20260420T053852
CREATED:20230202T145029Z
LAST-MODIFIED:20230213T131427Z
UID:22884-1678134600-1678134600@www.loftkoeln.de
SUMMARY:Lukasheva / Derache / Lennig
DESCRIPTION:Tamara Lukasheva – Stimme\, Klavier\nLaurent Derache – Akkordeon\nCalvin Lennig – Bass \n\n\n(english: see below) \nInformationen zu den Preisen\, Karten-Reservierungen und den Öffnungszeiten finden Sie hier.\n\n© Annette Etges\nDie mehrfach ausgezeichnete ukrainische Sängerin und Komponistin Tamara Lukasheva\, der französischer Akkordeonist Laurent Derache und der deutsche Bassist Calvin Lennig präsentieren ihr Programm Soft Songs.\n \nDie in der Hafenstadt Odessa (Ukraine) geborene Künstlerin Tamara Lukasheva lebt seit 2010 in Köln. 2016 erhielt ihr Big Band Arrangement den ersten Preis beim Bundesjazzorchester (BuJazzO). Mit ihrem Tamara Lukasheva Quartett gewannt sie 2017 den Neuen Deutschen Jazzpreis\, und wurde außerdem als beste Solistin ausgezeichnet. 2018  erhielt sie den Kölner Jazzpreis / das Horst und Gretl Will-Stipendium\, 2021 wurde ihr der WDR Jazzpreis in der Kategorie Komposition verliehen. Seit 2020 ist sie Dozentin für Jazz Gesang an der Staatlichen Hochschule für Musik Stuttgart.  \nhttps://tamaralukasheva.de/ \nMit beeindruckender Vielfalt ist der französische Akkordeonist Laurent Derache seit 2005 weltweit zu hören\, unter anderem arbeitete mit Theatern wie z.B. der Opéra Eclaté\, der Comédiens et Compagnie zusammen\, oder traf in musikalische Begegnungen auf Maria Schneider\, Sanseverino\, Art Menge oder das Orchestre National de Lille. \nhttps://laurentderache.com/ \nDer deutsche Bassist Calvin Lennig stand trotz seines jungen Alters schon mit vielen namhaften Jazz-Künstlern auf der Bühne\, z.B. mit Seamus Blake\, Evan Parker\, Christian Lillinger\, Adam Nussbaum\, Kit Downes oder Pablo Held\, um nur einige zu nennen.\n\nhttps://calvinlennig.com/ \n\n\n\n\nTamara Lukasheva – voice\, piano\nLaurent Derache – accordion\nCalvin Lennig – double bass \nInformation about prices\, ticket reservations and our opening times can be found here. \nMulti-award winning Ukrainian singer and composer Tamara Lukasheva\, French accordionist Laurent Derache and German bassist Calvin Lennig present their program Soft Songs. \nBorn in the port city of Odessa (Ukraine)\, Tamara Lukasheva has lived in Cologne since 2010. In 2016\, her big band arrangement won first prize at the Bundesjazzorchester (BuJazzO). With her Tamara Lukasheva Quartet she won the New German Jazz Award in 2017\, and was also awarded best soloist. In 2018 she received the Cologne Jazz Prize / Horst and Gretl Will Scholarship\, and in 2021 she was awarded the WDR Jazz Prize in the composition category. Since 2020\, she has been a lecturer in jazz singing at the Staatliche Hochschule für Musik Stuttgart. \nWith impressive diversity\, French accordionist Laurent Derache has been heard worldwide since 2005\, collaborating with theaters such as Opéra Eclaté\, Comédiens et Compagnie\, or meeting in musical encounters with Maria Schneider\, Sanseverino\, Art Menge or the Orchestre National de Lille. \nDespite his young age\, the German bassist Calvin Lennig has already been on stage with many renowned jazz artists\, such as Seamus Blake\, Evan Parker\, Christian Lillinger\, Adam Nussbaum\, Kit Downes or Pablo Held\, just to name a few.
URL:https://www.loftkoeln.de/event/lukasheva-derache-lennig/
END:VEVENT
END:VCALENDAR