BEGIN:VCALENDAR
VERSION:2.0
PRODID:-//www.loftkoeln.de - ECPv5.14.2.1//NONSGML v1.0//EN
CALSCALE:GREGORIAN
METHOD:PUBLISH
X-WR-CALNAME:www.loftkoeln.de
X-ORIGINAL-URL:https://www.loftkoeln.de
X-WR-CALDESC:Veranstaltungen für www.loftkoeln.de
BEGIN:VTIMEZONE
TZID:Europe/Berlin
BEGIN:DAYLIGHT
TZOFFSETFROM:+0100
TZOFFSETTO:+0200
TZNAME:CEST
DTSTART:20220327T010000
END:DAYLIGHT
BEGIN:STANDARD
TZOFFSETFROM:+0200
TZOFFSETTO:+0100
TZNAME:CET
DTSTART:20221030T010000
END:STANDARD
END:VTIMEZONE
BEGIN:VEVENT
DTSTART;TZID=Europe/Berlin:20220514T203000
DTEND;TZID=Europe/Berlin:20220514T203000
DTSTAMP:20260422T161925
CREATED:20220401T092323Z
LAST-MODIFIED:20220404T120136Z
UID:20001-1652560200-1652560200@www.loftkoeln.de
SUMMARY:Lukas Akintaya: HUES
DESCRIPTION:Keisuke Matsuno – Gitarre\nJeremy Viner – Tenorsaxophon\nSimon Jermyn – E-Bass\nLukas Akintaya – Schlagzeug & Kompositionen \n\n(english: see below) \nInformationen zu Konzerten während der Corona-Pandemie finden Sie hier\, Informationen zu den Preisen\, Karten-Reservierungen und den Öffnungszeiten finden Sie hier.\n© Odelia Toder\nDer in Berlin lebende Schlagzeuger und Komponist Lukas Akintaya refektiert mit seinem Projekt und gleichnamigen Debütalbum HUES (Skirl Records\, 2021) seine Zeit in New York City. Er thematisiert das Orientieren in einem neuen Umfeld\, das Umdenken von bekannten und festgetretenen Paradigmen\, die Inbetrachtnahme anderer Blickwinkel. Dabei spricht das Album eine ganz eigene Sprache\, die sich nicht auf einen Genrebegriff reduzieren lässt. Ein starker improvisatorischer Ansatz\, mischt sich mit Post und Alternative Rock\, Ambient und Elektronik. Derweil geht es bei HUES nicht um das Überschreiten von Grenzen\, oder das reproduzieren bekannter Narrative – ein freier Kollektiver Geist steht im Mittelpunkt der Musik dieses Ensembles und ermöglicht unvorhergesehene Entwicklungen. \nhttps://www.lukasakintaya.com/ \n„Eine Platte voll elegischer Melodien und opulenter Klangwolken von verzerrten Gitarren und verhallten Synthesizern\, durch die heftige\, aber genau bemessene Vorstöße ins Freie und Offene aufblitzen.“Niklas Wandt\, Deutschlandfunk \n\n\nKeisuke Matsuno – guitarJeremy Viner – tenor saxophone\nSimon Jermyn – electric bass\nLukas Akintaya – drums/compositions \nPlease read our infos concerning concerts with an audience during the Corona pandemic here. Information about prices\, ticket reservations and our opening times can be found here. \nBerlin-based drummer and composer Lukas Akintaya reflects on his time in New York City with his project and eponymous debut album HUES (Skirl Records\, 2021). He focuses on finding one’s bearings in a new environment\, rethinking familiar and entrenched paradigms\, and taking other perspectives into account. The album speaks its own language\, which cannot be reduced to a genre term. A strong improvisational approach mixes with post and alternative rock\, ambient and electronic. Meanwhile\, HUES is not about crossing boundaries or reproducing familiar narratives – a free collective spirit is at the heart of this ensemble’s music\, allowing for unforeseen developments. \nhttps://www.lukasakintaya.com/ \n„A record full of elegiac melodies and opulent sound clouds of distorted guitars and reverberated synthesizers\, through which fierce but precisely measured forays into the free and open flash.“\nNiklas Wandt\, Deutschlandfunk
URL:https://www.loftkoeln.de/event/lukas-akintaya-hues/
END:VEVENT
END:VCALENDAR