BEGIN:VCALENDAR
VERSION:2.0
PRODID:-//www.loftkoeln.de - ECPv5.14.2.1//NONSGML v1.0//EN
CALSCALE:GREGORIAN
METHOD:PUBLISH
X-WR-CALNAME:www.loftkoeln.de
X-ORIGINAL-URL:https://www.loftkoeln.de
X-WR-CALDESC:Veranstaltungen für www.loftkoeln.de
BEGIN:VTIMEZONE
TZID:Europe/Berlin
BEGIN:DAYLIGHT
TZOFFSETFROM:+0100
TZOFFSETTO:+0200
TZNAME:CEST
DTSTART:20240331T010000
END:DAYLIGHT
BEGIN:STANDARD
TZOFFSETFROM:+0200
TZOFFSETTO:+0100
TZNAME:CET
DTSTART:20241027T010000
END:STANDARD
END:VTIMEZONE
BEGIN:VEVENT
DTSTART;TZID=Europe/Berlin:20240502T200000
DTEND;TZID=Europe/Berlin:20240502T200000
DTSTAMP:20260423T234706
CREATED:20240329T132740Z
LAST-MODIFIED:20240423T085356Z
UID:26605-1714680000-1714680000@www.loftkoeln.de
SUMMARY:Luís Vicente Trio
DESCRIPTION:Luís Vicente – Trompete\nJohn Hughes – Bass\nOnno Govaert – Schlagzeug\n \n\n(english: see below) \nAb Januar 2024 beginnen alle Konzerte im LOFT um 20.00 Uhr.\nAusnahmen – z.B. Sonntags – sind möglich.\nWeitere Informationen zu den Preisen\, Karten-Reservierungen und den Öffnungszeiten finden Sie hier.\n\nLuís Vicente ist ein portugiesischer Trompeter und Komponist\, der nicht nur auf einigen der bekanntesten Bühnen Portugals aufgetreten ist – CCB\, Serralves\, Jazz em Agosto – sondern auch im Bimhuis in Amsterdam\, Ungarn\, Berlin und Kanada. Mit rund drei Dutzend Alben gehört er zu einer Musiker*innen-Generation\, die Portugal in den letzten Jahren ins Scheinwerferlicht aufmerksamer Jazzfans gerückt hat. \nNun präsentiert er sein international-besetztes Trio erstmals im LOFT. \nhttps://luis-vicente.pt/ \n\n\n\nLuís Vicente – trumpet\nJohn Hughes – bass\nOnno Govaert – drums \nFrom January 2024 on\, the concerts at the LOFT start round 8.00 pm\nExceptions – e.g. on Sundays – are possible.\nFurther information about prices\, ticket reservations and our opening times can be found here. \nLuís Vicente is a Portuguese trumpeter and composer who has performed not only on some of the most recognized stages in Portugal – CCB\, Serralves\, Jazz em Agosto – but also at Bimhuis in Amsterdam\, Hungary\, Berlin or Canada. With about three dozen albums recorded\, he is part of a family of musicians that in recent years has placed Portugal in the crosshairs of the most attentive jazz radars. \nNow he is presenting his international trio at LOFT for the first time.
URL:https://www.loftkoeln.de/event/luis-vicente-4tet/
END:VEVENT
END:VCALENDAR