BEGIN:VCALENDAR
VERSION:2.0
PRODID:-//www.loftkoeln.de - ECPv5.14.2.1//NONSGML v1.0//EN
CALSCALE:GREGORIAN
METHOD:PUBLISH
X-WR-CALNAME:www.loftkoeln.de
X-ORIGINAL-URL:https://www.loftkoeln.de
X-WR-CALDESC:Veranstaltungen für www.loftkoeln.de
BEGIN:VTIMEZONE
TZID:UTC
BEGIN:STANDARD
TZOFFSETFROM:+0000
TZOFFSETTO:+0000
TZNAME:UTC
DTSTART:20150101T000000
END:STANDARD
END:VTIMEZONE
BEGIN:VEVENT
DTSTART;TZID=UTC:20150921T203000
DTEND;TZID=UTC:20150921T203000
DTSTAMP:20260424T171951
CREATED:20170303T085141Z
LAST-MODIFIED:20170303T085141Z
UID:4047-1442867400-1442867400@www.loftkoeln.de
SUMMARY:LUCAS LEIDINGER: Trio & Strings
DESCRIPTION:Lucas Leidinger – piano\, comp.\n Matthias Akeo Nowak – bass\n Etienne Nillesen – drums \nALINDE QUARTETT\nEugenia Ottaviano – viol.\nAxel Haase – viol.\nAmélie Legrand – viola\nLukas Wittermann – cello \n\nein Klangkörper – eine Melodie – eine Geschichte – ein Moment – ein Blick ins Universum – ein Spiel – ein Stückchen Zeit – aus dem Leben \nMit seinem neuen Projekt realisiert Pianist und Komponist Lucas Leidinger einen lang gehegten Wunsch. Während seines Master-Studiums im Fach Jazzklavier/Komposition am “Rytmisk Musikkonservatorium” in Kopenhagen beschäftigt er sich intensiv mit Komposition für Streichinstrumente. Inspiriert von der Skandinavischen Musikszene\, der Natur und dem Spiel mit einheimischen Musikern verbindet er seine Erfahrungen als improvisierender Musiker mit seiner Leidenschaft zur Komposition und seiner Liebe zur klassischen Musik des 20. Jahrhunderts. Die Offenheit und Verspieltheit eines Jazzklavier-Trios trifft auf den geheimnisvoll\, tiefgründigen Klang eines klassischen Streichquartetts. Neben seinem Wunsch-Trio mit Matthias Nowak am Bass und Etienne Nillesen am Schlagzeug konnte er das vielfach ausgezeichnete “Alinde Quartett” aus Köln für sich gewinnen.
URL:https://www.loftkoeln.de/event/lucas-leidinger-trio-strings/
END:VEVENT
END:VCALENDAR