BEGIN:VCALENDAR
VERSION:2.0
PRODID:-//www.loftkoeln.de - ECPv5.14.2.1//NONSGML v1.0//EN
CALSCALE:GREGORIAN
METHOD:PUBLISH
X-WR-CALNAME:www.loftkoeln.de
X-ORIGINAL-URL:https://www.loftkoeln.de
X-WR-CALDESC:Veranstaltungen für www.loftkoeln.de
BEGIN:VTIMEZONE
TZID:UTC
BEGIN:STANDARD
TZOFFSETFROM:+0000
TZOFFSETTO:+0000
TZNAME:UTC
DTSTART:20140101T000000
END:STANDARD
END:VTIMEZONE
BEGIN:VEVENT
DTSTART;TZID=UTC:20140510T203000
DTEND;TZID=UTC:20140510T203000
DTSTAMP:20260424T191921
CREATED:20170323T115615Z
LAST-MODIFIED:20170323T115615Z
UID:4442-1399753800-1399753800@www.loftkoeln.de
SUMMARY:"Lok 4"
DESCRIPTION:Frederik Villmow – drums\nAlessandro Fongaro- bass\nMarc Doffey – ts.\nClemens Moritz – trp.\, flgh.\nGastsolist: Jerry Lu – piano \n\nDas Quartett Lok4 um den Schlagzeuger Frederik Villmow feiert Premiere. \nErgänzend wird im LOFT der Kölner Pianist Jerry Lu gefeatured. \nLok4 spielt Eigenkompositionen und Standards. Dabei widmet sich das junge Quartett dem Straight-ahead-Jazz. Kennengelernt haben sich Frederik Villmow (Rotterdam)\, Marc Doffey (Berlin) und Clemens Moritz (Amsterdam) im JugendJazzOrchester NRW. Der Kontrabassist Alessandro Fongaro\, Gewinner des Erasmus Jazz Prijs 2014 (Rotterdam)\, komplettiert die Band. \nLok4 wird diesen Abend mit einem Live-Mitschnitt dokumentieren.
URL:https://www.loftkoeln.de/event/lok-4/
END:VEVENT
END:VCALENDAR