BEGIN:VCALENDAR
VERSION:2.0
PRODID:-//www.loftkoeln.de - ECPv5.14.2.1//NONSGML v1.0//EN
CALSCALE:GREGORIAN
METHOD:PUBLISH
X-WR-CALNAME:www.loftkoeln.de
X-ORIGINAL-URL:https://www.loftkoeln.de
X-WR-CALDESC:Veranstaltungen für www.loftkoeln.de
BEGIN:VTIMEZONE
TZID:UTC
BEGIN:STANDARD
TZOFFSETFROM:+0000
TZOFFSETTO:+0000
TZNAME:UTC
DTSTART:20210101T000000
END:STANDARD
END:VTIMEZONE
BEGIN:VEVENT
DTSTART;TZID=UTC:20210211T203000
DTEND;TZID=UTC:20210211T203000
DTSTAMP:20260423T214615
CREATED:20210201T131716Z
LAST-MODIFIED:20210320T082049Z
UID:16220-1613075400-1613075400@www.loftkoeln.de
SUMMARY:Livestream aus dem LOFT: "The Resonators"
DESCRIPTION:Frank Gratkowski – Altsaxophon\, Flöte\nSebastian Müller – Gitarre\nReza Askari – Bass\nThomas Sauerborn – Schlagzeug \ndirekt zum livestream:\n oder  \n\n\nSie sehen diesen livestream kostenlos über Youtube oder Facebook\, wir freuen uns natürlich sehr\, wenn Sie den Resonators einen „Eintritt“ zu diesem Konzert zukommen lassen\n\nPer PayPal:\nhttps://www.paypal.me/fgratkowski \n\n\n  \nstream-Beginn: 20.15 Uhr CET\nKonzert-Beginn: 20.30 Uhr CET \nzum LOFT-YouTube-Kanal \n\nThe Resonators live @ LOFT\, 10/2020\nDie vier Protagonisten bilden ein schwingfähiges System\, welches sich durch Elastizität\, Flexibilität\, Aktion und Reaktion auszeichnet. Gern wird hierbei Bezug auf brachiale Klangwelten\, wie sie im Noise Rock beheimatet sind\, Bezug genommen\, ohne dabei den Rahmen des akustischen Free Jazz zu verlassen.\nZum ersten Mal mit dabei: Schlagzeuger Thomas Sauerborn! \nhttp://gratkowski.com/ \nhttps://www.reza-askari.com/ \nhttps://thomassauerborn.de/ \n\nTon: Stefan Deistler\nProduktion: Dr. Urs Benedikt Müller & Hans Martin Müller\nDank an: Mischa Salevic \n&     \n\nFrank Gratkowski – alto sax\, flute\nSebastian Müller – guitar\nReza Askari – bass\nThomas Sauerborn – drums \n\n\n\nYou can watch this livestream for free on YouTube or Facebook\, we are of course very happy if you pay the Resonators an „entry“ to this concert \nvia PayPal:\nhttps://www.paypal.me/fgratkowski \n\n\n\nstream starts : 8.15 pm CET\nconcert starts: 8.30 pm CET \n\ntake me directly to the livestream:\n or  \n\nThe four protagonists form a vibrating system\, which is characterized by elasticity\, flexibility\, action and reaction. They like to refer to brute sound worlds\, as they are at home in noise rock\, without leaving the framework of acoustic free jazz.\nWith the Resonators for the first time: drummer Thomas Sauerborn! \nhttp://gratkowski.com \nhttps://www.reza-askari.com/ \nhttps://thomassauerborn.de/ \n  \n\nSound: Stefan Deistler\nProduction: Dr. Urs Benedikt Müller & Hans Martin Müller\nThanks to: Mischa Salevic \n&   
URL:https://www.loftkoeln.de/event/livestream-aus-dem-loft-the-resonators/
END:VEVENT
END:VCALENDAR