BEGIN:VCALENDAR
VERSION:2.0
PRODID:-//www.loftkoeln.de - ECPv5.14.2.1//NONSGML v1.0//EN
CALSCALE:GREGORIAN
METHOD:PUBLISH
X-WR-CALNAME:www.loftkoeln.de
X-ORIGINAL-URL:https://www.loftkoeln.de
X-WR-CALDESC:Veranstaltungen für www.loftkoeln.de
BEGIN:VTIMEZONE
TZID:UTC
BEGIN:STANDARD
TZOFFSETFROM:+0000
TZOFFSETTO:+0000
TZNAME:UTC
DTSTART:20210101T000000
END:STANDARD
END:VTIMEZONE
BEGIN:VEVENT
DTSTART;TZID=UTC:20210220T203000
DTEND;TZID=UTC:20210220T203000
DTSTAMP:20260423T200341
CREATED:20210204T072421Z
LAST-MODIFIED:20240406T073225Z
UID:16228-1613853000-1613853000@www.loftkoeln.de
SUMMARY:Livestream aus dem LOFT: Supernova Series Vol. 3 - LIUN + The Science Fiction Band
DESCRIPTION:Lucia Cadotsch – Stimme\nWanja Slavin – Synthesizer\, Saxophone\nAndi Fins – Synthesizer\nAndi Haberl – Schlagzeug \ndirekt zum livestream:\n oder  \n\n\nSie sehen diesen livestream kostenlos über Youtube oder Facebook\, wir freuen uns natürlich sehr\, wenn Sie die Supernova Series mit einem „virtuellen Ticket“ unterstützen \n\nüber PayPal:\nhttps://www.paypal.com/paypalme/inespizarrocorreia \n\n\n  \nstream-Beginn: 20.15 Uhr CET\nKonzert-Beginn: 20.30 Uhr CET \nzum LOFT-YouTube-Kanal \n\n„Your album is sooooo killing. Extra extra good. I love it. Congrats\, for me it’s an instant classic.“\nKurt Rosenwinkel \n„Remember the name Lucia Cadotsch – you’re going to be hearing a lot of it!“ schrieb unlängst der britische Guardian über die Schweizer Sängerin. Sie schlägt nun mit LIUN + The Science Fiction Band\,  zusammen mit dem Berliner Saxofonisten und Komponisten Wanja Slavin\, laut SZ ein Künstler „zwischen Genie und Wahnsinn„\, ein ganz neues Soundkapitel auf: Urbane Musik mit dunklen Beats\, schillernden Synths und pulsierenden Hooklines. Wanja Slavins vielschichtig orchestrale Arrangements werden getragen von Lucia Cadotschs strahlender Stimme. LIUN kreiert so eine phantasmagorische Welt\, eine Synthese aus digitalen und analogen Elementen\, ein Spiegelbild unserer so faszinierenden\, wie widersprüchlichen Zeit. \nhttp://www.luciacadotsch.com/bands/other-projects/liun-the-science-fiction-band/ \nDie Supernova Series werden veranstaltet und kuratiert von Inês Pizarro und Johannes Ludwig. Es geht um die Verbindung von akustischen Instrumenten mit Elektronik\, Improvisation und Songformen. \nGefördert von: \n \n \n\nTon: Holger Krzywon\nProduktion: Dr. Urs Benedikt Müller & Hans Martin Müller\nDank an: Mischa Salevic \n&     \n\nLucia Cadotsch – Voice\nWanja Slavin – Synthesizer\, Saxophone\nAndi Fins – Synthesizer\nAndi Haberl – Drums \n\ntake me directly to the livestream:\n or  \n\nYou can watch this livestream for free on YouTube or Facebook\, we are of course very happy if support the Supernova Series with a virtual ticket\, either\nvia PayPal:\nhttps://www.paypal.com/paypalme/inespizarrocorreia \n  \nstream starts : 8.15 pm CET\nconcert starts: 8.30 pm CET \nto the LOFT YouTube channel \n\n„Your album is sooooo killing. Extra extra good. I love it. Congrats\, for me it’s an instant classic.“\nKurt Rosenwinkel \nRemember the name Lucia Cadotsch – you’re going to be hearing a lot of it!“ the British Guardian  recently wrote about the Swiss singer. She is now opening a whole new sound chapter with LIUN + The Science Fiction Band\, together with Berlin saxophonist and composer Wanja Slavin\, according to SZ an artist „between genius and madness„: Urban music with dark beats\, shimmering synths and pulsating hooklines. Wanja Slavin’s multi-layered orchestral arrangements are carried by Lucia Cadotsch’s radiant voice. LIUN thus creates a phantasmagorical world\, a synthesis of digital and analog elements\, a reflection of our time\, which is as fascinating as it is contradictory. \nhttp://www.luciacadotsch.com/bands/other-projects/liun-the-science-fiction-band/ \nThe Supernova Series is hosted and curated by Inês Pizarro and Johannes Ludwig. It is about the connection of acoustic instruments with electronics\, improvisation and song forms. \nSupported by: \n \n \n\nSound: Holger Krzywon\nProduction: Dr. Urs Benedikt Müller & Hans Martin Müller\nThanks to: Mischa Salevic \n&   
URL:https://www.loftkoeln.de/event/livestream-aus-dem-loft-supernova-vol-3-liun-the-science-fiction-band/
END:VEVENT
END:VCALENDAR