BEGIN:VCALENDAR
VERSION:2.0
PRODID:-//www.loftkoeln.de - ECPv5.14.2.1//NONSGML v1.0//EN
CALSCALE:GREGORIAN
METHOD:PUBLISH
X-WR-CALNAME:www.loftkoeln.de
X-ORIGINAL-URL:https://www.loftkoeln.de
X-WR-CALDESC:Veranstaltungen für www.loftkoeln.de
BEGIN:VTIMEZONE
TZID:UTC
BEGIN:STANDARD
TZOFFSETFROM:+0000
TZOFFSETTO:+0000
TZNAME:UTC
DTSTART:20210101T000000
END:STANDARD
END:VTIMEZONE
BEGIN:VEVENT
DTSTART;TZID=UTC:20210207T203000
DTEND;TZID=UTC:20210207T203000
DTSTAMP:20260423T233722
CREATED:20210121T083648Z
LAST-MODIFIED:20210208T123521Z
UID:16151-1612729800-1612729800@www.loftkoeln.de
SUMMARY:Livestream aus dem LOFT: Stemeseder · Berger · Landfermann
DESCRIPTION:Elias Stemeseder – Piano\nRobert Landfermann – Bass\nLeif Berger – Schlagzeug \ndirekt zum livestream:\n  oder   \n\n\nSie sehen diesen livestream kostenlos über Youtube oder Facebook\, wir freuen uns natürlich sehr\, wenn Sie Elias\, Leif und Robert einen „Eintritt“ zu diesem Konzert zukommen zukommen lassen: \nPer PayPal:\nhttps://www.paypal.com/paypalme/RobertLandfermann \nDetails für Überweisungen können direkt per eMail erfragt werden:\nrobert.bass[at]web.de \n  \n\n\nstream-Beginn: 20.15 Uhr CET\nKonzert-Beginn: 20.30 Uhr CET \nzum LOFT-YouTube-Kanal \n\nR. Landfermann © Patrick Essex\nMit akustischen und elektronischen Instrumenten entspinnen drei Protagonisten der jazzbasierten Improvisationsmusik einen Diskurs über Möglichkeiten des zeitgenössischen Zusammenspiels in historischer Instrumentierung. Konzepte und Ideen unterschiedlichen geografischen und zeitlichen Ursprungs werden zu neuartigen Ordnungsprinzipien umfunktioniert welche es dem Ensemble ermöglichen\, vermeintlich disparate musikalische Elemente miteinander in Einklang zu bringen. So ertönt feingliedrig Kontrapunktisches und tänzelnd Polyrhythmisches mühelos neben rohen Klangtürmen\, vehementen Akkordclustern und schlichter Gesanglichkeit. \nhttp://eliasstemeseder.com/ \nhttps://robertlandfermann.com \nhttps://leifberger.bandcamp.com/ \n\nTon: Stefan Deistler\nProduktion: Dr. Urs Benedikt Müller & Hans Martin Müller\nDank an: Mischa Salevic \n&     \n\nElias Stemeseder – piano\nRobert Landfermann – bass\nLeif Berger – drums \n\n\n\nYou can watch this livestream for free on YouTube or Facebook\, we are of course very happy if you pay Elias\, Leif & Robert an „entry“ to this concert: \nvia PayPal:\nhttps://www.paypal.com/paypalme/RobertLandfermann \ndetails for bank transfer will be communicated directly via eMail:\nrobert.bass[at]web.de \n\n\n\n\ntake me directly to the livestream:\n  or   \n\nWith acoustic and electronic instruments\, three protagonists of jazz-based improvisational music develop a discourse on the possibilities of contemporary interplay in historical instrumentation. Concepts and ideas of different geographical and temporal origins are transformed into new principles of order that enable the ensemble to harmonize supposedly disparate musical elements. Thus\, delicate contrapuntal and dancing polyrhythmic sound effortlessly next to raw sound towers\, vehement chord clusters and simple songfulness. \nhttp://eliasstemeseder.com \nhttps://robertlandfermann.com \nhttps://leifberger.bandcamp.com/ \n  \n\nSound: Stefan Deistler\nProduction: Dr. Urs Benedikt Müller & Hans Martin Müller\nThanks to: Mischa Salevic \n&     \n 
URL:https://www.loftkoeln.de/event/livestream-aus-dem-loft-stemeseder-%c2%b7-berger-%c2%b7-landfermann/
END:VEVENT
END:VCALENDAR