BEGIN:VCALENDAR
VERSION:2.0
PRODID:-//www.loftkoeln.de - ECPv5.14.2.1//NONSGML v1.0//EN
CALSCALE:GREGORIAN
METHOD:PUBLISH
X-WR-CALNAME:www.loftkoeln.de
X-ORIGINAL-URL:https://www.loftkoeln.de
X-WR-CALDESC:Veranstaltungen für www.loftkoeln.de
BEGIN:VTIMEZONE
TZID:UTC
BEGIN:STANDARD
TZOFFSETFROM:+0000
TZOFFSETTO:+0000
TZNAME:UTC
DTSTART:20210101T000000
END:STANDARD
END:VTIMEZONE
BEGIN:VEVENT
DTSTART;TZID=UTC:20210219T203000
DTEND;TZID=UTC:20210219T203000
DTSTAMP:20260423T181433
CREATED:20210205T123221Z
LAST-MODIFIED:20210502T145410Z
UID:16247-1613766600-1613766600@www.loftkoeln.de
SUMMARY:Livestream aus dem LOFT: PABLO HELD TRIO
DESCRIPTION:Pablo Held – Piano\nRobert Landfermann – Bass\nJonas Burgwinkel – Schlagzeug \ndirekt zum livestream:\n oder  \n\n\nSie sehen diesen livestream kostenlos über Youtube oder Facebook\, wir freuen uns natürlich sehr\, wenn Sie dem Pablo Held Trio einen „Eintritt“ zu diesem Konzert zukommen lassen\, per\nPayPal:\nhttps://www.paypal.me/pabloheld \nfür Bank-Überweisungen erfragen Sie bitte die Bank-Details (IBAN) direkt per eMail an:\ninfo@pabloheld.com \n\n\n  \nstream-Beginn: 20.15 Uhr CET\nKonzert-Beginn: 20.30 Uhr CET \nzum LOFT-YouTube-Kanal \n\n© Nadine Heller Menzel & Travassos\n„One of the great groups in music today“\nJohn Scofield \nDas Pablo Held Trio ist derzeit eine der lebendigsten und bedeutendsten Formationen des europäischen Jazz.\nEs überschreitet die Grenzen zwischen Komposition und Improvisation\, indem es auf Festlegungen – eine Abfolge von Themen und einen vorgezeichneten Weg\, diese zu präsentieren – bei Konzerten verzichtet. Das Risiko radikaler Spontaneität verleiht dem Trio seit Jahren Flügel\, so dass es zum Modell einer Ästhetik geworden ist\, welche man nur bei wenigen Künstlern findet. Die Kohäsion des Pablo Held Trios beruht auf Freundschaft und auf dem schöpferischen Willen\, beständig Neuland zu betreten. Das künstlerische Gewicht und die Eigenständigkeit der drei Ausnahmemusiker ist ein Anziehungspunkt für einen wachsenden Kreis kongenialer Musiker des europäischen und amerikanischen Kontinents\, die das Trio häufig erweitern. \n„The trio gel together as well as any jazz unit could hope to aspire and even exude something of the near-supernatural compatibility of the legendary Keith Jarrett/Gary Peacock/Jack DeJohnette line-up. […] the group really needs to be recognised as a world class trio of exceptional talent.“\nAll About Jazz \n\nTon: Lukas Lohner\nProduktion: Dr. Urs Benedikt Müller & Hans Martin Müller\nDank an: Mischa Salevic \n&     \n\nPablo Held – piano\nRobert Landfermann – bass\nJonas Burgwinkel – drums \n\n\n\n\n\n\n\n\ntake me directly to the livestream:\n or  \n\n\n\n\nYou can watch this livestream for free on YouTube\, we are of course very happy if you pay the musicians an „entry“ to this concert\, via\nPayPal:\nhttps://www.paypal.me/pabloheld \n\n\n\nfor bank transfer\, please ask for details via email:\ninfo[at]pabloheld.com \n  \nstream starts : 8.15 pm CET\nconcert starts: 8.30 pm CET \nto the LOFT YouTube channel \n\n„One of the great groups in music today“\nJohn Scofield \nThe Pablo Held Trio is currently one of the most lively and important formations in European jazz.\nIt transcends the boundaries between composition and improvisation by dispensing with determinations – a sequence of themes and a predefined way of presenting them – in concerts. The risk of radical spontaneity has given wings to the trio for years\, so much so that it has become the model of an aesthetic found in few artists. The cohesion of the Pablo Held Trio is based on friendship and on the creative will to constantly break new ground. The artistic weight and independence of the three exceptional musicians is a point of attraction for a growing circle of congenial musicians from the European and American continents\, who frequently expand the trio. \n„The trio gel together as well as any jazz unit could hope to aspire and even exude something of the near-supernatural compatibility of the legendary Keith Jarrett/Gary Peacock/Jack DeJohnette line-up. […] the group really needs to be recognised as a world class trio of exceptional talent.“\nAll About Jazz \n\nSound: Lukas Lohner\nProduction: Dr. Urs Benedikt Müller & Hans Martin Müller\nThanks to: Mischa Salevic \n&   
URL:https://www.loftkoeln.de/event/livestream-aus-dem-loft-pablo-held-trio/
END:VEVENT
END:VCALENDAR