BEGIN:VCALENDAR
VERSION:2.0
PRODID:-//www.loftkoeln.de - ECPv5.14.2.1//NONSGML v1.0//EN
CALSCALE:GREGORIAN
METHOD:PUBLISH
X-WR-CALNAME:www.loftkoeln.de
X-ORIGINAL-URL:https://www.loftkoeln.de
X-WR-CALDESC:Veranstaltungen für www.loftkoeln.de
BEGIN:VTIMEZONE
TZID:UTC
BEGIN:STANDARD
TZOFFSETFROM:+0000
TZOFFSETTO:+0000
TZNAME:UTC
DTSTART:20200101T000000
END:STANDARD
END:VTIMEZONE
BEGIN:VEVENT
DTSTART;TZID=UTC:20201207T203000
DTEND;TZID=UTC:20201207T203000
DTSTAMP:20260423T200151
CREATED:20201126T102156Z
LAST-MODIFIED:20240327T112659Z
UID:15798-1607373000-1607373000@www.loftkoeln.de
SUMMARY:Livestream aus dem LOFT: Olga Reznichenko Trio
DESCRIPTION:Olga Reznichenko – Piano\, Komposition\nLorenz Heigenhuber – Bass\nMaximilian Stadtfeld – Schlagzeug\n\n\nenglish version: see below \ndirekt zum livestream \nSie sehen diesen livestream kostenlos über Youtube\, wir freuen uns natürlich sehr\, wenn Sie den Musiker*innen einen „Eintritt“ zu diesem Konzert zukommen lassen\, per\n \nPayPal:\nhttps://paypal.me/olgarezni \nfür Bank-Überweisungen erfragen Sie bitte die Bank-Details (IBAN) direkt per eMail an:\nreznichenko.jazz@gmail.com \nzum LOFT-YouTube-Kanal \nProduktion: Dr. Urs Benedikt Müller & Hans Martin Müller\nTon: Christian Heck\nDank an: Mischa Salevic \n\nOlga Reznichenko wurde in Taganrog\, Russland geboren\, wo sie mit acht Jahren ihre musikalische Ausbildung als Klassikpianistin begann. Nach mehreren Jahren intensiven Klassikmusikstudiums entwickelte Olga eine Leidenschaft für Jazzmusik. Im 2012 zog sie nach Leipzig\, um zu studieren. Seither arbeitet sie stetig an Kompositionen und daran\, sich zu verbessern und ihre einzigartige Musiksprache zu entwickeln.\nIm 2014 trat sie mit ihrer Band Ylativ Algo beim GETXO Jazzwettbewerb auf\, wo sie den ersten Platz machten. In den letzten Jahren performte Olga in verschiedenen Musikprojekten in Deutschland\, Portugal\, Belgien und Spanien. Sie trat bei zahlreichen Jazzfestivals auf\, unter Anderem das Xjazz (Berlin 2014)\, Ammertöne (Weilheim 2014) und Jazz am Rhein  (Ludwigshafen 2015). In ihrem neusten Trio verbindet Olga erfolgreich komplexe harmonische und rhythmische Strukturen mit einer einfacheren und minimalistischen Textur\, wobei sie auf Melodien zurückgreift\, die leicht zugänglich sind und gleichzeitig durch einen ausgefeilten Sinn für Musik ungewöhnliche musikalische Reife und ein stark ausgeprägtes Gefühl für Ästhetik demonstriert. \n\nEnglish version:\n \nOlga Reznichenko – piano\, composition\nLorenz Heigenhuber – bass\n\nMaximilian Stadtfeld – drums \nProduction details: see above \ntake me directly to the livestream \n\nYou can watch this livestream for free on YouTube\, we are of course very happy if you pay the musicians an „entry“ to this concert\, via \nPayPal:\nhttps://paypal.me/olgarezni \nfor bank transfer\, please ask for details via email:\nreznichenko.jazz@gmail.com \nto the LOFT-YouTube channel \nOlga Reznichenko was born in Taganrog\, Russia\, where she began her musical training as a classical pianist at the age of eight. After several years of intensive classical music studies\, Olga developed a passion for jazz music. In 2012 she moved to Leipzig for her studies. Since then she has been working steadily on compositions and on improving and developing her unique musical language.\nIn 2014 she performed with her band Ylativ Algo at the GETXO jazz competition\, where they took first place. In recent years Olga has performed in various music projects in Germany\, Portugal\, Belgium and Spain. She has appeared at numerous jazz festivals\, including Xjazz (Berlin 2014)\, Ammertöne (Weilheim 2014) and Jazz am Rhein (Ludwigshafen 2015). In her latest trio\, Olga successfully combines complex harmonic and rhythmic structures with a simpler and minimalist texture\, using melodies that are easily accessible and at the same time demonstrate unusual musical maturity and a strong sense of aesthetics through a sophisticated sense of music.
URL:https://www.loftkoeln.de/event/livestream-aus-dem-loft-olga-reznichenko-trio/
END:VEVENT
END:VCALENDAR