BEGIN:VCALENDAR
VERSION:2.0
PRODID:-//www.loftkoeln.de - ECPv5.14.2.1//NONSGML v1.0//EN
CALSCALE:GREGORIAN
METHOD:PUBLISH
X-WR-CALNAME:www.loftkoeln.de
X-ORIGINAL-URL:https://www.loftkoeln.de
X-WR-CALDESC:Veranstaltungen für www.loftkoeln.de
BEGIN:VTIMEZONE
TZID:UTC
BEGIN:STANDARD
TZOFFSETFROM:+0000
TZOFFSETTO:+0000
TZNAME:UTC
DTSTART:20210101T000000
END:STANDARD
END:VTIMEZONE
BEGIN:VEVENT
DTSTART;TZID=UTC:20210130T203000
DTEND;TZID=UTC:20210130T203000
DTSTAMP:20260424T025744
CREATED:20210119T112029Z
LAST-MODIFIED:20210130T225616Z
UID:16119-1612038600-1612038600@www.loftkoeln.de
SUMMARY:Livestream aus dem LOFT: Multibass Orchestra
DESCRIPTION:Christian Ramond – Kontrabass\nDietmar Fuhr – Akustischer Bass\nAchim Tang – Doublebass\nSebastian Gramss – Uprightbass\n  \ndirekt zum livestream:\n oder  \n\n\nSie sehen diesen livestream kostenlos über Youtube oder Facebook\, wir freuen uns natürlich sehr\, wenn Sie dem Multibass Orchestra einen „Eintritt“ zu diesem Konzert zukommen lassen: \nPer PayPal:\nhttps://www.paypal.com/paypalme/dietmarfuhr \nDetails für Überweisungen können dirket per eMail erfragt werden:\ndietmarfuhr[at]gmx.de \n\n\nstream-Beginn: 20.15 Uhr CET\nKonzert-Beginn: 20.30 Uhr CET \nzum LOFT-YouTube-Kanal \n\nMonochrome Musik\, einfarbig bunt.\nAuf vier nahezu baugleichen Instrumenten gespielt\, aus vier unterschiedlichen Blickrichtungen komponiert\, konzipiert\, improvisiert.\nDie Besetzung des Multibass Orchesters ist nicht Programm\, sondern Ausgangspunkt für fortgeschrittene Klangforschung in besonderer Umgebung. Das Ziel ist weder ein Basszirkus noch die Darstellung sportlich virtuoser Bewältigung unseres großen Instrumentes.\nDas Ziel ist Musik. Bass Musik. \n\nTon: Stefan Deistler\nProduktion: Dr. Urs Benedikt Müller & Hans Martin Müller\nDank an: Mischa Salevic \n&  \n\nChristian Ramond – contrabass\nDietmar Fuhr – strin bass\nAchim Tang – double bass\nSebastian Gramss – upright bass \n\n\n\nYou can watch this livestream for free on YouTube or Facebook\, we are of course very happy if you pay the Multibass Orchestra an „entry“ to this concert: \nvia PayPal:\nhttps://www.paypal.com/paypalme/dietmarfuhr \ndetails for bank transfer will be communicated directly via eMail:\ndietmarfuhr[at]gmx.de \n\n\n\nstream starts : 8.15 pm CET\nconcert starts: 8.30 pm CET \n\ntake me directly to the livestream:\n or  \n\nMonochrome music\, monochrome colorful.\nPlayed on four almost identical instruments\, composed\, conceived\, improvised from four different perspectives.\nThe instrumentation of the Multibass Orchestra is not a program\, but a starting point for advanced sound research in a special environment. The goal is neither a bass circus nor a display of athletic virtuoso mastery of our great instrument.\nThe goal is music. Bass music. \n\nSound: Stefan Deistler\nProduction: Dr. Urs Benedikt Müller & Hans Martin Müller\nThanks to: Mischa Salevic \n&
URL:https://www.loftkoeln.de/event/livestream-aus-dem-loft-multibass-orchestra/
END:VEVENT
END:VCALENDAR