BEGIN:VCALENDAR
VERSION:2.0
PRODID:-//www.loftkoeln.de - ECPv5.14.2.1//NONSGML v1.0//EN
CALSCALE:GREGORIAN
METHOD:PUBLISH
X-WR-CALNAME:www.loftkoeln.de
X-ORIGINAL-URL:https://www.loftkoeln.de
X-WR-CALDESC:Veranstaltungen für www.loftkoeln.de
BEGIN:VTIMEZONE
TZID:UTC
BEGIN:STANDARD
TZOFFSETFROM:+0000
TZOFFSETTO:+0000
TZNAME:UTC
DTSTART:20200101T000000
END:STANDARD
END:VTIMEZONE
BEGIN:VEVENT
DTSTART;TZID=UTC:20201201T203000
DTEND;TZID=UTC:20201201T203000
DTSTAMP:20260420T054205
CREATED:20201126T082330Z
LAST-MODIFIED:20201205T112604Z
UID:15776-1606854600-1606854600@www.loftkoeln.de
SUMMARY:Livestream aus dem LOFT:  Hauptmann · Kintopf · Berger
DESCRIPTION:Felix Hauptmann – Piano\, Komposition\nRoger Kintopf – Bass\n\nLeif Berger – Schlagzeug \n\nenglish version: see below \nProduktion: Dr. Urs Benedikt Müller & Hans Martin Müller\nTon: Lukas Lohner\nDank an: Mischa Salevic \n\n\nDie drei Musiker verbindet ein gemeinsames ästhetisches Fühlen. Sie erschaffen Klangwelten auf der Basis von komplexen rhythmischen Strukturen und improvisierten Zellen. \n\n\nBei der Konzertpremiere am 1. Dezember 2020 präsentiert die Band erstmalig das Programm des Pianisten Felix Hauptmann. \nhttps://felixhauptmann.wordpress.com/\n \nhttp://rogerkintopf.com \n\nEnglish version\n \n\n\n\nFelix Hauptmann – piano\, composition\nRoger Kintopf – bass\n\nLeif Berger – drums \n\nProduction details: see above \n\nThe three musicians share a common aesthetic feeling. They create worlds of sound on the basis of complex rhythmic structures and improvised cells. \nAt the concert premiere on December 1\, 2020 – livestream from the LOFT\, the band will present the program of pianist Felix Hauptmann for the first time. \nhttps://felixhauptmann.wordpress.com \nhttp://rogerkintopf.com
URL:https://www.loftkoeln.de/event/livestream-aus-dem-loft-hauptmann-%c2%b7-kintopf-%c2%b7-berger/
END:VEVENT
END:VCALENDAR