BEGIN:VCALENDAR
VERSION:2.0
PRODID:-//www.loftkoeln.de - ECPv5.14.2.1//NONSGML v1.0//EN
CALSCALE:GREGORIAN
METHOD:PUBLISH
X-WR-CALNAME:www.loftkoeln.de
X-ORIGINAL-URL:https://www.loftkoeln.de
X-WR-CALDESC:Veranstaltungen für www.loftkoeln.de
BEGIN:VTIMEZONE
TZID:UTC
BEGIN:STANDARD
TZOFFSETFROM:+0000
TZOFFSETTO:+0000
TZNAME:UTC
DTSTART:20200101T000000
END:STANDARD
END:VTIMEZONE
BEGIN:VEVENT
DTSTART;TZID=UTC:20200630T210000
DTEND;TZID=UTC:20200630T210000
DTSTAMP:20260424T193506
CREATED:20200623T112355Z
LAST-MODIFIED:20201021T070704Z
UID:14887-1593550800-1593550800@www.loftkoeln.de
SUMMARY:Livestream aus dem LOFT: Anette von Eichel Quartett - Inner Tide
DESCRIPTION:Anette von Eichel – Stimme\nSebastian Sternal – Piano\nHenning Sieverts – Bass\nJonas Burgwinkel – Schlagzeug\n \n\nENGLISH VERSION: SEE BELOW \nSie sehen diesen livestream kostenlos über Youtube\, wir freuen uns natürlich sehr\, wenn Sie Anette von Eichel einen „Eintritt“ zu diesem Konzert zukommen lassen\, per PayPal auf das Konto des Schlagzeugers Jonas Burgwinkel:\nhttps://www.paypal.me/indianajonas99 \noder Sie kontaktieren Anette direkt via eMail:\nanettevoneichel[at]web.de \nzum LOFT-YouTube-Kanal \nPremiere!\nAnette von Eichel präsentiert ihre neue wunderbare Band\, mit der sie Anfang Juli im LOFT ihre nächste CD aufnimmt.\nGroße Vorfreude! \nhttps://anettevoneichel.de/ \nhttp://sebastiansternal.de/ \nhttp://www.henningsieverts.de/ \nhttp://www.jonasburgwinkel.com/ \n\nYou can watch this livestream for free on YouTube\, we are of course very happy if you pay Anette von Eichel an „entry“ to this concert\, either by transfer to the account of the drummer Jonas Burgwinkel\nhttps://www.paypal.me/indianajonas99 \nor you contact Anette directly via eMail:\nanettevoneichel[at]web.de \nto the LOFT-YouTube channel \nPremiere!\nAnette von Eichel presents her new wonderful band with which she will record her next CD at the LOFT at the beginning of July. \nhttps://anettevoneichel.de/ \nhttp://sebastiansternal.de/ \nhttp://www.henningsieverts.de/ \nhttp://www.jonasburgwinkel.com/
URL:https://www.loftkoeln.de/event/livestream-aus-dem-loft-anette-von-eichel-quartett-inner-tide/
END:VEVENT
END:VCALENDAR