BEGIN:VCALENDAR
VERSION:2.0
PRODID:-//www.loftkoeln.de - ECPv5.14.2.1//NONSGML v1.0//EN
CALSCALE:GREGORIAN
METHOD:PUBLISH
X-WR-CALNAME:www.loftkoeln.de
X-ORIGINAL-URL:https://www.loftkoeln.de
X-WR-CALDESC:Veranstaltungen für www.loftkoeln.de
BEGIN:VTIMEZONE
TZID:UTC
BEGIN:STANDARD
TZOFFSETFROM:+0000
TZOFFSETTO:+0000
TZNAME:UTC
DTSTART:20190101T000000
END:STANDARD
END:VTIMEZONE
BEGIN:VEVENT
DTSTART;TZID=UTC:20190316T203000
DTEND;TZID=UTC:20190316T203000
DTSTAMP:20260424T140353
CREATED:20181223T155723Z
LAST-MODIFIED:20190212T085347Z
UID:10355-1552768200-1552768200@www.loftkoeln.de
SUMMARY:Leidinger/Gille/Arends: „Trio Aurora“ // Live-Mitschnitt
DESCRIPTION:Lucas Leidinger – Piano\nSebastian Gille – Saxophon\nFabian Arends – Schlagzeug \n\nDas frisch zusammengefundene Trio sucht nach neuen Wegen und Freiheiten innerhalb selbst erschaffener Strukturen. „Aurora“ – die poetische Bezeichnung für „Morgenröte“\, steht dabei metaphorisch für das „ewig Neue“ –  ein ständiges Entstehen und wieder Vergehen – und das Zelebrieren des Lebens aus der Inspiration des Augenblicks. Dabei wird bewusst auf das „sichere“ Fundament eines Kontrabasses verzichtet\, sodass sich neue Möglichkeiten des Ausdrucks ganz organisch ergeben. In dieser spannenden Formation treffen drei starke Musikerpersönlichkeiten aufeinander und verschmelzen zu einer Einheit. Saxophonist Sebastian Gille ist 2017 von Hamburg nach Köln gezogen und wird von der Fachpresse als „einer der ausdruckstärksten Saxophonisten unserer Zeit“ bezeichnet. Pianist und Komponist Lucas Leidinger ist Preisträger des Horst und Gretl Will Stipendiums für Jazz und improvisierte Musik der Stadt Köln 2016 und ist genau wie der sehr umtriebige Schlagzeuger Fabian Arends schon seit Jahren fester Bestanteil der jüngeren deutschen Jazzszene. \nwww.lucasleidinger.com \nwww.fabianarends.com \nwww.sebastiangille.com
URL:https://www.loftkoeln.de/event/leidinger-gille-arends-trio-aurora-live-mitschnitt/
END:VEVENT
END:VCALENDAR