BEGIN:VCALENDAR
VERSION:2.0
PRODID:-//www.loftkoeln.de - ECPv5.14.2.1//NONSGML v1.0//EN
CALSCALE:GREGORIAN
METHOD:PUBLISH
X-WR-CALNAME:www.loftkoeln.de
X-ORIGINAL-URL:https://www.loftkoeln.de
X-WR-CALDESC:Veranstaltungen für www.loftkoeln.de
BEGIN:VTIMEZONE
TZID:UTC
BEGIN:STANDARD
TZOFFSETFROM:+0000
TZOFFSETTO:+0000
TZNAME:UTC
DTSTART:20100101T000000
END:STANDARD
END:VTIMEZONE
BEGIN:VEVENT
DTSTART;TZID=UTC:20100303T203000
DTEND;TZID=UTC:20100303T203000
DTSTAMP:20260423T080404
CREATED:20171027T092113Z
LAST-MODIFIED:20171027T092113Z
UID:6162-1267648200-1267648200@www.loftkoeln.de
SUMMARY:Lautstark!4
DESCRIPTION:Jan F. Kurth – voc\nLutz Streun – sax/bcl\nMatthias Kurth – git\nDemian Kappenstein – dr.\nRamesh Shotham – perc\, voc\, dr \n\nLautstark!4 melden sich kraftvoll zurück: nach dem viel beachteten Debüt Album autark und der autark- Release Tour kehrt das sympathische Viergespann mit Verstärkung zurück auf die heiligen Bretter des Loft. \nDie Band\, die sich inzwischen in alle Winkel der Republik verstreut hat\, freut sich ganz besonders darauf\, gemeinsam mit einem der vielseitigsten und außergewöhnlichsten Musiker der Kölner Szene zurück auf die Bühne zu kehren: mit Ramesh Shotham\, Perkussion. Shotham stammt aus Madras\, heute Chennai\, und ist im Rock\, Jazz\, Fusion\, in der improvisierten und in vielen anderen Musiken zu Hause. Unvergessen sind seine Konzerte mit Charlie Mariano\, dem Karnataka College of Percussion oder der WDR Bigband. Seine eigene Band Madras Special setzt Maßstäbe in Sachen Musik von Weltformat. \nDie 5 Herren laden auf eine Reise durch intuitive Musikwelten ein. Sie haben „keine Scheu\, krachige Rock-Riffs und samtige Pop-Melodik mit aktueller improvisierter Musik zu kreuzen“\nMartin Laurentius\, JazzThing
URL:https://www.loftkoeln.de/event/lautstark4/
END:VEVENT
END:VCALENDAR