BEGIN:VCALENDAR
VERSION:2.0
PRODID:-//www.loftkoeln.de - ECPv5.14.2.1//NONSGML v1.0//EN
CALSCALE:GREGORIAN
METHOD:PUBLISH
X-WR-CALNAME:www.loftkoeln.de
X-ORIGINAL-URL:https://www.loftkoeln.de
X-WR-CALDESC:Veranstaltungen für www.loftkoeln.de
BEGIN:VTIMEZONE
TZID:Europe/Berlin
BEGIN:DAYLIGHT
TZOFFSETFROM:+0100
TZOFFSETTO:+0200
TZNAME:CEST
DTSTART:20250330T010000
END:DAYLIGHT
BEGIN:STANDARD
TZOFFSETFROM:+0200
TZOFFSETTO:+0100
TZNAME:CET
DTSTART:20251026T010000
END:STANDARD
END:VTIMEZONE
BEGIN:VEVENT
DTSTART;TZID=Europe/Berlin:20250508T200000
DTEND;TZID=Europe/Berlin:20250508T200000
DTSTAMP:20260421T143454
CREATED:20250401T120716Z
LAST-MODIFIED:20250407T053509Z
UID:29497-1746734400-1746734400@www.loftkoeln.de
SUMMARY:Landfermann · Gratkowski · Armbruster · Zoubek · Lamm
DESCRIPTION:Frank Gratkowski – Holzblasinstrumente\nCarlotta Armbruster – Posaune\nPhilip Zoubek – Tasteninstrumente\nRobert Landfermann – Bass\nMarius Lamm – Schlagzeug\n \n\n(english: see below) \nWeitere Informationen zu den Preisen\, Karten-Reservierungen und den Öffnungszeiten finden Sie hier.\n\nFrank Gratkowski © Peter Tümmers ; Carlotta Armbruster © Gerhard Richter ; Philip Zoubek © Frank Schindelbeck ; Robert Landfermann © Patrick Essex ; Marius Lamm © Gerhard Richter\n„In music\, as I find myself forever saying\, things don’t get better or worse: they evolve and transform themselves.“\nLuciano Berio \nhttps://gratkowski.com/ \nhttps://www.mariuslamm.com/ \nhttps://philipzoubek.com/ \nhttps://robertlandfermann.com/ \n\n\n\n\n\n\nFrank Gratkowski – reeds\nCarlotta Armbruster – trombone\nPhilip Zoubek – keys\nRobert Landfermann – bass\nMarius Lamm – drums \nFurther information about prices\, ticket reservations and our opening times can be found here.\n 
URL:https://www.loftkoeln.de/event/landfermann-%c2%b7-gratkowski-%c2%b7-armbruster-%c2%b7-zoubek-%c2%b7-lamm/
END:VEVENT
END:VCALENDAR