BEGIN:VCALENDAR
VERSION:2.0
PRODID:-//www.loftkoeln.de - ECPv5.14.2.1//NONSGML v1.0//EN
CALSCALE:GREGORIAN
METHOD:PUBLISH
X-WR-CALNAME:www.loftkoeln.de
X-ORIGINAL-URL:https://www.loftkoeln.de
X-WR-CALDESC:Veranstaltungen für www.loftkoeln.de
BEGIN:VTIMEZONE
TZID:UTC
BEGIN:STANDARD
TZOFFSETFROM:+0000
TZOFFSETTO:+0000
TZNAME:UTC
DTSTART:20130101T000000
END:STANDARD
END:VTIMEZONE
BEGIN:VEVENT
DTSTART;TZID=UTC:20131117T203000
DTEND;TZID=UTC:20131117T203000
DTSTAMP:20260425T142647
CREATED:20170405T104806Z
LAST-MODIFIED:20170405T110028Z
UID:4596-1384720200-1384720200@www.loftkoeln.de
SUMMARY:Kosack - Zoubek - Niggenkemper - Gratkowski - Fügemann
DESCRIPTION:Liz Kosack-keyboard\nPhilip Zoubek – piano\nPascal Niggenkemper – bass\nFrank Gratkowski – reeds\nElisabeth Fügemann – cello \n\nVier Musiker die sich in ihrem Zusammenspiel zu einem Organisums verflechten\, der stark pulsierend durch farbenreiche Klanglandschaften wandelt.\nIm zweiten Set bereichert Elisabeth Fügemann den Klang mit ihrem cello.. \nEs ist das erste Konzert der amerikanischen Keyboarderin Liz Kosack im Loft. \nwww.pascalniggenkemper.com \nwww.frankgratkowski.de \nwww.lizkosack.com \nwww.philipzoubek.com
URL:https://www.loftkoeln.de/event/kosack-zoubek-niggenkemper-gratkowski-fugemann/
END:VEVENT
END:VCALENDAR