BEGIN:VCALENDAR
VERSION:2.0
PRODID:-//www.loftkoeln.de - ECPv5.14.2.1//NONSGML v1.0//EN
CALSCALE:GREGORIAN
METHOD:PUBLISH
X-WR-CALNAME:www.loftkoeln.de
X-ORIGINAL-URL:https://www.loftkoeln.de
X-WR-CALDESC:Veranstaltungen für www.loftkoeln.de
BEGIN:VTIMEZONE
TZID:Europe/Berlin
BEGIN:DAYLIGHT
TZOFFSETFROM:+0100
TZOFFSETTO:+0200
TZNAME:CEST
DTSTART:20050327T010000
END:DAYLIGHT
BEGIN:STANDARD
TZOFFSETFROM:+0200
TZOFFSETTO:+0100
TZNAME:CET
DTSTART:20051030T010000
END:STANDARD
END:VTIMEZONE
BEGIN:VEVENT
DTSTART;TZID=Europe/Berlin:20050413T203000
DTEND;TZID=Europe/Berlin:20050413T203000
DTSTAMP:20260423T012341
CREATED:20220831T114236Z
LAST-MODIFIED:20220831T114236Z
UID:21606-1113424200-1113424200@www.loftkoeln.de
SUMMARY:KONZERTEXAMEN: PETER PROTSCHKA - TROMPETE
DESCRIPTION:Peter Protschka Quintett:\nPeter Protschka – Trompete/ Flügelhorn\nSebastian Sternal – piano\nMatthias Strucken – vibraphon\nRobert Landfermann – bass\nMarcus Rieck – drums \n\nDie aus hervorragenden Kölner Musikern der jüngeren Generation bestehende Band um den – ebenfalls aus Köln stammenden- Trompeter und Flügelhornisten Peter Protschka spielt vitalen\, modernen Jazz\, der sich sowohl am Hardbopsound vergangener Jahrzehnte als auch an zeitgenössischen\, europäischen Strömungen des Jazz orientiert. Das Repertoire setzt sich ganz bewusst zu gleichen Teilen aus Eigenkompositionen des Band- Leaders und ausgewählten Stücken anderer Komponisten zusammen. Die Auswahl der Stücke ist zugleich Programm: Die Musiker erweisen hier einigen Grossen ihrer Zunft die Ehre\, schlagen aber zugleich den Bogen von den USA der fünfziger und sechziger Jahre zum modernen Europa. Bei der Instrumentierung der Band wird ganz bewusst die akustische Quintett- Besetzung bevorzugt\, hier wird jedoch durch die farbenreiche Kombination von Piano und Vibraphon mit dem Rest der Band ein besonderer und außergewöhnlicher\nKlang erreicht.
URL:https://www.loftkoeln.de/event/konzertexamen-peter-protschka-trompete/
END:VEVENT
END:VCALENDAR