BEGIN:VCALENDAR
VERSION:2.0
PRODID:-//www.loftkoeln.de - ECPv5.14.2.1//NONSGML v1.0//EN
CALSCALE:GREGORIAN
METHOD:PUBLISH
X-WR-CALNAME:www.loftkoeln.de
X-ORIGINAL-URL:https://www.loftkoeln.de
X-WR-CALDESC:Veranstaltungen für www.loftkoeln.de
BEGIN:VTIMEZONE
TZID:Europe/Berlin
BEGIN:DAYLIGHT
TZOFFSETFROM:+0100
TZOFFSETTO:+0200
TZNAME:CEST
DTSTART:20220327T010000
END:DAYLIGHT
BEGIN:STANDARD
TZOFFSETFROM:+0200
TZOFFSETTO:+0100
TZNAME:CET
DTSTART:20221030T010000
END:STANDARD
END:VTIMEZONE
BEGIN:VEVENT
DTSTART;TZID=Europe/Berlin:20220201T203000
DTEND;TZID=Europe/Berlin:20220201T203000
DTSTAMP:20260422T180350
CREATED:20220106T090247Z
LAST-MODIFIED:20220121T080740Z
UID:19002-1643747400-1643747400@www.loftkoeln.de
SUMMARY:Klaus Heidenreich Quartet: "Spaces"
DESCRIPTION:Klaus Heidenreich – Posaune \nSebastian Sternal – Piano \nRobert Landfermann – Bass \nJonas Burgwinkel – Schlagzeug\nDas Konzert wird vor Publikum stattfinden\, weitere Informationen zu Konzerten während der Corona-Pandemie finden Sie hier\, Informationen zu den Preisen\, Karten-Reservierungen und den Öffnungszeiten hier.\nDas Klaus Heidenreich Quartet setzt sich aus gestandenen Vertretern der jungen deutschen Jazz-Szene zusammen. Ursprünglich zum Ende der Studienzeit an der Musikhochschule Köln gegründet\, besteht die Band nun seit 12 Jahren in unveränderter Besetzung. Ihr Zusammenspiel wird auf mittlerweile vier CD-Einspielungen dokumentiert.\nKlaus Heidenreich ist seit 2008 Mitglied der NDR BigBand\, seine Bandkollegen sind aus der nationalen und europäischen Szene nicht mehr wegzudenken.\nDas Klaus Heidenreich Quartet ist eine moderne Band und hat einen breiten musikalischen Background. Zwischen Jazz-Tradition und Moderne ist die Musik geprägt vom Gespür der vier Musiker füreinander.\nDas aktuelle Album Spaces (eingespielt im LOFT) erschien im Januar 2020 auf Klaeng Records. \n\n\nKlaus Heidenreich – trombone\nSebastian Sternal – piano\nRobert Landfermann – bass\nJonas Burgwinkel – drums\nPlease read our infos concerning concerts with an audience during the Corona pandemic here. Information about prices\, ticket reservations and our opening times can be found here. \nThe Klaus Heidenreich Quartet is made up of seasoned representatives of the young German jazz scene. Originally founded at the end of their studies at the Musikhochschule Köln\, the band has now existed for 12 years in an unchanged line-up. Their interplay is documentated on four CD recordings by now.\nKlaus Heidenreich has been a member of the NDR BigBand since 2008\, and it is impossible to imagine the national and European scene without his band colleagues.\nThe „Klaus Heidenreich Quartet“ is a modern band and has a broad musical background. Between jazz tradition and modernity the music is characterized by the feeling of the four musicians for each other.\nThe current album Spaces (recorded at LOFT) was released in January 2020 on Klaeng Records.
URL:https://www.loftkoeln.de/event/klaus-heidenreich-quartet-spaces/
END:VEVENT
END:VCALENDAR