BEGIN:VCALENDAR
VERSION:2.0
PRODID:-//www.loftkoeln.de - ECPv5.14.2.1//NONSGML v1.0//EN
CALSCALE:GREGORIAN
METHOD:PUBLISH
X-WR-CALNAME:www.loftkoeln.de
X-ORIGINAL-URL:https://www.loftkoeln.de
X-WR-CALDESC:Veranstaltungen für www.loftkoeln.de
BEGIN:VTIMEZONE
TZID:UTC
BEGIN:STANDARD
TZOFFSETFROM:+0000
TZOFFSETTO:+0000
TZNAME:UTC
DTSTART:20130101T000000
END:STANDARD
END:VTIMEZONE
BEGIN:VEVENT
DTSTART;TZID=UTC:20130117T203000
DTEND;TZID=UTC:20130117T203000
DTSTAMP:20260424T031604
CREATED:20171010T130019Z
LAST-MODIFIED:20171010T130019Z
UID:5381-1358454600-1358454600@www.loftkoeln.de
SUMMARY:KlangDrangOrchester: Basics to go #1
DESCRIPTION:Leitung: Peter Wolf \n\nDas Frühjahr 2012 steht für das improvisierende KlangDrangOrchester ganz im Zeichen der Erforschung musikalischer Spielräume durch Reduktion. In einer 3-teiligen Konzertreihe untersucht Peter Wolf mit kompositorischen Rahmenkonzepten das Spektrum der Möglichkeiten reduzierter Zeichengruppen für das Dirigat. Der Fokus richtet sich auf die verstärkte Wahrnehmung für Strukturen und Phänomene in gruppenimprovisatorischen Prozessen. \nDer von Wolf verwendete Basiszeichensatz geht von den über 20-jährigen Erfahrungen des London Improvisers Orchestra aus. Dessen Zeichenrepertoire\, das inzwischen weite Verbreitung gefunden hat\, umfasst ca. 20 Gesten\, die Aspekte wie Gruppen\, Rhythmus\, Funktionen\, Feeling sowie dynamische und tonale Parameter steuern. Dazu kommen bei Wolf individuelle Zeichen und Absprachen sowie intuitiv zu erfassende\, performative Zeichen\, die über performative Körpersprache vermittelt werden. \n13.2.12: Basics to go #2 \n18.4.12: Basics to go #3
URL:https://www.loftkoeln.de/event/klangdrangorchester-basics-to-go-1/
END:VEVENT
END:VCALENDAR