BEGIN:VCALENDAR
VERSION:2.0
PRODID:-//www.loftkoeln.de - ECPv5.14.2.1//NONSGML v1.0//EN
CALSCALE:GREGORIAN
METHOD:PUBLISH
X-WR-CALNAME:www.loftkoeln.de
X-ORIGINAL-URL:https://www.loftkoeln.de
X-WR-CALDESC:Veranstaltungen für www.loftkoeln.de
BEGIN:VTIMEZONE
TZID:UTC
BEGIN:STANDARD
TZOFFSETFROM:+0000
TZOFFSETTO:+0000
TZNAME:UTC
DTSTART:20170101T000000
END:STANDARD
END:VTIMEZONE
BEGIN:VEVENT
DTSTART;TZID=UTC:20170429T203000
DTEND;TZID=UTC:20170429T203000
DTSTAMP:20260425T210058
CREATED:20170301T103926Z
LAST-MODIFIED:20170301T104038Z
UID:3974-1493497800-1493497800@www.loftkoeln.de
SUMMARY:KIMMIG STUDER ZIMMERLIN feat. Paul Lovens
DESCRIPTION:Harald Kimmig – Violine\nDaniel Studer – Kontrabass\nAlfred Zimmerlin – Cello\n\n\nPaul Lovens – Percussion \n\nleft: © Marc Doradzillo\nFast eine Tradition könnte man es nennen\, dass das bestens eingespielte Trio Kimmig-Studer-Zimmerlin mit Gästen zusammenarbeitet und so seinen eigenwilligen Streicherklang anderen Einflüssen aussetzt. Diesmal steht als Gast der Percussionist Paul Lovens im Zentrum. Paul Lovens hat  über Jahrzehnte hinweg das Schlagzeugspiel in der freien Musik geprägt. Er spielte mit nahezu allen goßen MusikerInnen der freien Improvisation. Am bekanntesten ist wohl seine Arbeit im bereits legendären Schlippenbach-Trio mit Alexander Schlippenbach (Piano)und Evan Parker (Saxophon) sowie mit dem Globe-Unity Orchestra\, dessen Mitglied er seit Anbeginn ist. \n‚Eine Streicherformation ist im Jazz eher selten anzutreffen – erst recht nicht eine\, die so gefährlich frei tönt wie dieses Trio. Streichen ist nämlich nur eine Spielart\, mit der Harald Kimmig an der Violine\, die beiden Schweizer Alfred Zimmerlin am Cello und der Kontrabassist Daniel Studer ihre Instrumente bearbeiten: Kratzen\, sägen\, zupfen\, klatschen und schlagen gehören selbstverständlich mit zum Handwerk dieser Improvisationsmusiker\, die mit allen Sinnen aufeinander konzentriert spielen und einander sehr vertraut sind\, wie unschwer zu hören ist: Ihre Klangwelt wirkt trotz aller Schrankenlosigkeit\, Kanten und Kontraste sehr organisch und seltsam homogen\, auch wenn es an allen Ecken kracht und zischt\, rauscht und zuweilen bis fast zur Unhörbarkeit hin flüstert.  \nJazzthing\, 2013
URL:https://www.loftkoeln.de/event/kimmig-studer-zimmerlin-feat-paul-lovens/
END:VEVENT
END:VCALENDAR