BEGIN:VCALENDAR
VERSION:2.0
PRODID:-//www.loftkoeln.de - ECPv5.14.2.1//NONSGML v1.0//EN
CALSCALE:GREGORIAN
METHOD:PUBLISH
X-WR-CALNAME:www.loftkoeln.de
X-ORIGINAL-URL:https://www.loftkoeln.de
X-WR-CALDESC:Veranstaltungen für www.loftkoeln.de
BEGIN:VTIMEZONE
TZID:UTC
BEGIN:STANDARD
TZOFFSETFROM:+0000
TZOFFSETTO:+0000
TZNAME:UTC
DTSTART:20130101T000000
END:STANDARD
END:VTIMEZONE
BEGIN:VEVENT
DTSTART;TZID=UTC:20131028T200000
DTEND;TZID=UTC:20131028T200000
DTSTAMP:20260422T180109
CREATED:20170405T112211Z
LAST-MODIFIED:20170405T112211Z
UID:4612-1382990400-1382990400@www.loftkoeln.de
SUMMARY:KGNM Werkstatt
DESCRIPTION:Rochus Aust und Jonathan Golove
URL:https://www.loftkoeln.de/event/kgnm-werkstatt/
END:VEVENT
END:VCALENDAR