BEGIN:VCALENDAR
VERSION:2.0
PRODID:-//www.loftkoeln.de - ECPv5.14.2.1//NONSGML v1.0//EN
CALSCALE:GREGORIAN
METHOD:PUBLISH
X-WR-CALNAME:www.loftkoeln.de
X-ORIGINAL-URL:https://www.loftkoeln.de
X-WR-CALDESC:Veranstaltungen für www.loftkoeln.de
BEGIN:VTIMEZONE
TZID:UTC
BEGIN:STANDARD
TZOFFSETFROM:+0000
TZOFFSETTO:+0000
TZNAME:UTC
DTSTART:20150101T000000
END:STANDARD
END:VTIMEZONE
BEGIN:VEVENT
DTSTART;TZID=UTC:20150922T203000
DTEND;TZID=UTC:20150922T203000
DTSTAMP:20260424T190901
CREATED:20170303T085027Z
LAST-MODIFIED:20170303T085027Z
UID:4046-1442953800-1442953800@www.loftkoeln.de
SUMMARY:jungesloft: IMPAKT Kollektiv Köln feat. LÊ QUAN NINH
DESCRIPTION:Lê Quan Ninh – perc.\nElisabeth Fügemann – vcl. \nNathan Bontrager – vcl. \nFabian Jung – perc.\nFlorian Zwissler – synth \n\nIm Rahmen der Reihe „Junges Loft“ ist das IMPAKT Kollektiv\, bestehend aus jungen Musikern der Improvisierenden Musik-Szene Kölns\, einer von vier Kuratoren und koordiniert 3 Konzerte mit internationalen Klangkünstlern.\nIn diesem ersten Konzert werden Mitglieder des IMPAKT Kollektivs Köln mit dem französischen Perkussionisten LÊ QUAN NINH improvisieren. \n\nLÊ QUAN NINH\nAs a classical trained percussionist\, Lê Quan Ninh (*1961) worked with contemporary music ensembles and was a founder member of Quatuor Hêlios (1986-2012)\, a percussion quartet that performed and recorded\, among others\, John Cage‘s percussion works. Their last creation was Seul à Seuls by Georges Aperghis premiered in late 2006 at the Musica Festival in Strasbourg (France).\nAs an improvisor\, he participates at numerous meetings in Europe and in North America and plays regularly in ensembles in forms that mix improvised acoustic & electroacoustic music\, ‚performance art‘\, dance\, poetry\, experimental cinema\, photography and video. With the cellist Martine Altenburger\, he founded in 2006 the ensemble]h[iatus\, a contemporary music ensemble whose its members are at the same time interpreters and improvisers. They commissioned pieces to the composers Vinko Globokar\, Peter Jakober\, Steffen Krebber and Jennifer Walshe. His discography counts about 40 CD on european and north american labels. \n\nIMPAKT Kollektiv Köln : Improvisation und aktuelle Musik Köln\nImpakt ist ein Kollektiv junger MusikerInnen aus Köln\, deren Schnittmenge die frei improvisierte Musik ist. Musik\, die aus der stilistischen und klanglichen Vielfalt der heutigen Zeit erwächst; Musik\, die sich in einem spontanen und konstruktiven Umgang miteinander widerspiegelt. Dem Zuhörer eröffnen sich musikalische Momente\, in denen die Persönlichkeiten der Musiker\, ihre Ideen und Klangvisionen durchscheinen. Mit IMPAKT tritt eine Gruppe junger Improvisatoren ans Licht\, deren Mitglieder bereits vielfältig im Kölner Konzert- und Kulturbetrieb vertreten sind. Hiermit wird eine Plattform für frei improvisierte Musik in Köln geschaffen. Die Homepage dokumentiert und informiert über die Aktivitäten des Kollektivs.
URL:https://www.loftkoeln.de/event/jungesloft-impakt-kollektiv-koln-feat-le-quan-ninh/
END:VEVENT
END:VCALENDAR