BEGIN:VCALENDAR
VERSION:2.0
PRODID:-//www.loftkoeln.de - ECPv5.14.2.1//NONSGML v1.0//EN
CALSCALE:GREGORIAN
METHOD:PUBLISH
X-WR-CALNAME:www.loftkoeln.de
X-ORIGINAL-URL:https://www.loftkoeln.de
X-WR-CALDESC:Veranstaltungen für www.loftkoeln.de
BEGIN:VTIMEZONE
TZID:Europe/Berlin
BEGIN:DAYLIGHT
TZOFFSETFROM:+0100
TZOFFSETTO:+0200
TZNAME:CEST
DTSTART:20220327T010000
END:DAYLIGHT
BEGIN:STANDARD
TZOFFSETFROM:+0200
TZOFFSETTO:+0100
TZNAME:CET
DTSTART:20221030T010000
END:STANDARD
END:VTIMEZONE
BEGIN:VEVENT
DTSTART;TZID=Europe/Berlin:20220411T203000
DTEND;TZID=Europe/Berlin:20220411T203000
DTSTAMP:20260421T111345
CREATED:20220305T121542Z
LAST-MODIFIED:20220407T084714Z
UID:19709-1649709000-1649709000@www.loftkoeln.de
SUMMARY:Julia Brüssel & Falk Grieffenhagen
DESCRIPTION:Julia Brüssel – Violine Elektronik\nFalk Grieffenhagen – Kontrabassklarinette\, Elektronik\n\n(english: see below) \nInformationen zu Konzerten während der Corona-Pandemie finden Sie hier\, Informationen zu den Preisen\, Karten-Reservierungen und den Öffnungszeiten finden Sie hier.\n\nJulia Brüssel und Falk Grieffenhagen teilen die Leidenschaft und den Forscherdrang\, eine eigene Klangästhetik aus der Verbindung ihrer klassischen Instrumente und den Möglichkeiten der elektronischen Klangtransformation zu schaffen.\nGemeinsam entwickeln sie seit 2020 kompositorische Strategien und Soundkonzepte\, die sowohl das instrumentale Spiel\, als auch die elektronische Transformation der instrumentalen Klänge auf eine neue gemeinsame Ebene bringt. Hierzu verwenden sie teilweise selbstgeschriebene Softwarealgorithmen\, um die Konzepte konsequent in eine vielfältige Klanglandschaft zu verwandeln. Die Musik führt durch orchestrale Soundwolken und integriert zudem abstrakte Beats und urbane Geräusche in eine neue Klangwelt\, die als eine lebhafte Konversation der beiden Musiker mit ihren sehr unterschiedlichen Instrumenten erlebbar ist.\n\nhttp://www.grieffenhagen.de/\n\n\n\n\n\n\n\n\n\nJulia Brüssel – violin electronics\nFalk Grieffenhagen – double bass clarinet\, electronics \nPlease read our infos concerning concerts with an audience during the Corona pandemic here. Information about prices\, ticket reservations and our opening times can be found here. \nJulia Brüssel and Falk Grieffenhagen share the passion and the exploratory urge to create their own sound aesthetic from the combination of their classical instruments and the possibilities of electronic sound transformation.\nTogether they have been developing compositional strategies and sound concepts since 2020\, taking both instrumental playing and the electronic transformation of instrumental sounds to a new common level. To do this\, they use partially soft self-written software algorithms to consistently transform the concepts into a diverse soundscape. The music leads through orchestral sound clouds and also integrates abstract beats and urban noises into a new soundscape\, which can be experienced as a lively conversation between the two musicians with their very different instruments.
URL:https://www.loftkoeln.de/event/julia-bruessel-falk-grieffenhagen/
END:VEVENT
END:VCALENDAR