BEGIN:VCALENDAR
VERSION:2.0
PRODID:-//www.loftkoeln.de - ECPv5.14.2.1//NONSGML v1.0//EN
CALSCALE:GREGORIAN
METHOD:PUBLISH
X-WR-CALNAME:www.loftkoeln.de
X-ORIGINAL-URL:https://www.loftkoeln.de
X-WR-CALDESC:Veranstaltungen für www.loftkoeln.de
BEGIN:VTIMEZONE
TZID:UTC
BEGIN:STANDARD
TZOFFSETFROM:+0000
TZOFFSETTO:+0000
TZNAME:UTC
DTSTART:20150101T000000
END:STANDARD
END:VTIMEZONE
BEGIN:VEVENT
DTSTART;TZID=UTC:20151222T200000
DTEND;TZID=UTC:20151222T200000
DTSTAMP:20260423T154226
CREATED:20170223T113728Z
LAST-MODIFIED:20170301T074249Z
UID:3924-1450814400-1450814400@www.loftkoeln.de
SUMMARY:Julekonsert – Nordische Weihnacht
DESCRIPTION:Gjertrud Lunde – voc.\nHanno Busch – guit.\nJerry Lu – piano\nHenning Gailing – bass\nFrederik Villmow – drums\nMichael Villmow – sax \n\nDie norwegische Sängerin Gjertrud Lunde und der in Norwegen aufgewachsene Saxofonist/Komponist Michael Villmow laden am diesem Tag der Wintersonnenwende\, dem Soljevndøgn\, gemeinsam mit einem hochkarätigen Ensemble zu einem besinnlichen Jazzkonzert mit nordischen Klängen ein. \nMichael Villmow über diesen Abend: \n„Gjertrud Lunde kenne ich von Konzerten und durch ihre großartige CD Hjemklang. Mein Wunsch\, mit ihr zu musizieren besteht schon lange\, allein schon wegen der gemeinsamen norwegischen Wurzeln. Hanno Busch und Henning Gailing sind langjährige Weggefährten\, definitiv zwei meiner Lieblingsmusiker. Jerry Lu ist ein herausragender\, junger Pianist\, den ich über das JJO NRW kennengelernt habe. Dass mein Sohn Frederik\, der in Trondheim/Norwegen Jazzdrums studiert\, dabei ist\, trägt natürlich mit zur großen Vorfreude auf dieses besondere Konzert im Loft bei.“ \nwww.gjertrud-lunde.com \nwww.villmow.com \nDer Hausherr Hans Martin Müller serviert Glühwein und selbstgebackenen Weihnachtsstollen.
URL:https://www.loftkoeln.de/event/julekonsert-%e2%80%93-nordische-weihnacht/
END:VEVENT
END:VCALENDAR