BEGIN:VCALENDAR
VERSION:2.0
PRODID:-//www.loftkoeln.de - ECPv5.14.2.1//NONSGML v1.0//EN
CALSCALE:GREGORIAN
METHOD:PUBLISH
X-WR-CALNAME:www.loftkoeln.de
X-ORIGINAL-URL:https://www.loftkoeln.de
X-WR-CALDESC:Veranstaltungen für www.loftkoeln.de
BEGIN:VTIMEZONE
TZID:UTC
BEGIN:STANDARD
TZOFFSETFROM:+0000
TZOFFSETTO:+0000
TZNAME:UTC
DTSTART:20090101T000000
END:STANDARD
END:VTIMEZONE
BEGIN:VEVENT
DTSTART;TZID=UTC:20091002T210000
DTEND;TZID=UTC:20091002T210000
DTSTAMP:20260421T123054
CREATED:20171102T143251Z
LAST-MODIFIED:20171102T144602Z
UID:6293-1254517200-1254517200@www.loftkoeln.de
SUMMARY:Jubiläumskonzert 20 Jahre Loft - FREUNDE UND VERWANDTE
DESCRIPTION:Euro Jazz 21’  Nicolas Simion Group „Transylvanian Jazz“\nZoltan Lantos – violine (Ungarn)\nNicolas Simion – saxes (Rumänien)\nMartin Lubenov – akkordion (Bulgarien)\nSorin Romanescu – gitarre (Rumänien)\nGiani Lincan – zymbalon (Rumänien)\nMartin Gjakonovski – bass (Mazedonien)\n Jonas Burgwinkel – drums (Deutschland) \n\nWieder einmal präsentiert Nicolas Simion\, der rumänische Saxofonist\, der seit etlichen Jahren in Köln zuhause ist\, seine Musik\, die ein Phänomen der europäischen Musik darstellt\, geprägt aus der Tradition seiner rumänischen Heimat\, ohne zu einem folkloristischen Erlebnis zu werden \nNICOLAS SIMION über seine Musik: Nach mehr als 25 Jahren des Spielens und Schreibens von Musik in vielen  Richtungen\, des Mixens von Volksmusiken und modernem Jazz mit all den anderen Musikstilen\, bin ich immer noch in der Mitte des Entwicklungsprozesses! Mit jedem Projekt komme ich einem idealen Weg näher\, Sounds und Klänge miteinander zu verschmelzen\, einen Crossover zu wagen\, über den man sagen könnte: „Es klingt frisch und originell…es klingt wie gute Musik!“ Die  richtigen Leute zu finden mit verschiedenen Instrumenten und Musikern zu experimentieren\, ist immer ein Abenteuer! \nDieses spezielle Projekt lässt sich mit „Ethno Jazz“ bezeichnen. Oder auch mit „Folk Jazz“ oder „Balkan Jazz“. Ich nenne es einfach „Musik“! \nDies ist das erste Projekt\, zu dem ich mehr Musiker eingeladen habe\, die Folkinstrumente spielen als konventionelle Instrumente. Jeder von ihnen ist ein großartiger Spieler und eine große Persönlichkeit. So war es leicht für mich\, für jedes Stück die beste Zusammensetzung auswählen\, um einen farbenreichen Gruppensound zu bekommen. \nDas Projekt wird vom Rumänischen Kulturinstitut im Rahmen des „Cantemir“-Programms finanziert. \nVeranstalter: Jazz am Rhein e.V. im Rahmen von „EURO Jazz 21“!
URL:https://www.loftkoeln.de/event/jubilaumskonzert-20-jahre-loft-freunde-und-verwandte/
END:VEVENT
END:VCALENDAR