BEGIN:VCALENDAR
VERSION:2.0
PRODID:-//www.loftkoeln.de - ECPv5.14.2.1//NONSGML v1.0//EN
CALSCALE:GREGORIAN
METHOD:PUBLISH
X-WR-CALNAME:www.loftkoeln.de
X-ORIGINAL-URL:https://www.loftkoeln.de
X-WR-CALDESC:Veranstaltungen für www.loftkoeln.de
BEGIN:VTIMEZONE
TZID:Europe/Berlin
BEGIN:DAYLIGHT
TZOFFSETFROM:+0100
TZOFFSETTO:+0200
TZNAME:CEST
DTSTART:20240331T010000
END:DAYLIGHT
BEGIN:STANDARD
TZOFFSETFROM:+0200
TZOFFSETTO:+0100
TZNAME:CET
DTSTART:20241027T010000
END:STANDARD
END:VTIMEZONE
BEGIN:VEVENT
DTSTART;TZID=Europe/Berlin:20240114T180000
DTEND;TZID=Europe/Berlin:20240114T180000
DTSTAMP:20260423T142234
CREATED:20231129T110425Z
LAST-MODIFIED:20231218T092706Z
UID:25710-1705255200-1705255200@www.loftkoeln.de
SUMMARY:Jozef Dumoulin - Solo 2.0
DESCRIPTION:Jozef Dumoulin – Tasten\, Synthesizer\, Computer\n \n\n(english: see below) \nAb Januar 2024 beginnen alle Konzerte im LOFT um 20.00 Uhr.\nAusnahmen – wie am Sonntag den 14. Januar – sind möglich: das heutige Konzert beginnt bereits um 18 Uhr.\n\nWeitere Informationen zu den Preisen\, Karten-Reservierungen und den Öffnungszeiten finden Sie hier.\n\n\n\n\n\n\nJozef Dumoulin © Peter Tümmers\nDer belgische Multiinstrumentalist Jozef Dumoulin wird oft für seine Pionierarbeit mit dem Fender Rhodes (mythisches Keyboard der 70er Jahre) zitiert\, ein Instrument\, das er durch eine zeitgenössische\, eklektische und sehr persönliche künstlerische Bandbreite neu definiert hat. Er war der erste\, der ein Soloprogramm mit diesem Instrument vorstellte\, festgehalten auf dem Album A Fender Rhodes Solo\, das seit seiner Veröffentlichung vor 10 Jahren Kultstatus erlangt hat. \nhttp://jozefdumoulin.com/ \nJetzt präsentiert er ein neues Solowerk mit dem Titel This Body\, This Life\, das auf dem Lyonnaiser Label Carton records erschienen ist. In diesem Werk stellt er Fender Rhodes\, akustisches Klavier\, Synthesizer und Drumcomputer nebeneinander\, um eine Reise anzutreten\, die die vorangegangenen explodieren und vertiefen lässt. Ein Ausflug in geheimnisvolle und originelle Gefilde\, ohne offene Referenzen\, aber verbunden mit einem ganzen Feld von Möglichkeiten. \n\n\n\n\n\n\nJozef Dumoulin – keys\, synthsizer\, drum computer\n\nFrom January 2024 on\, the concerts at the LOFT start round 8.00 pm.\nExceptions like on Sunday the 14th of January are possible: todays concert starts already round 6.00 pm.\n\nFurther information about prices\, ticket reservations and our opening times can be found here. \n\n\nBelgian multi-instrumentalist Jozef Dumoulin is often cited for his pioneering work with the Fender Rhodes (mythical keyboard of the 70s)\, an instrument that he redefined through a contemporary\, eclectic and very personal artistic scope. He was the first to present a solo program with this instrument\, recorded on the album A Fender Rhodes Solo\, which has become cult since its release 10 years ago.\nToday he presents a new solo opus entitled This Body\, This Life\, released on the Lyonnais label Carton records. This work juxtaposes Fender Rhodes\, acoustic piano\, synthesizers as well as drum machines\, for a journey that explodes and deepens the previous ones. An excursion towards mysterious and original territories\, without open references but connected to a whole field of possibilities. \n 
URL:https://www.loftkoeln.de/event/jozef-dumoulin-solo-2-0/
END:VEVENT
END:VCALENDAR