BEGIN:VCALENDAR
VERSION:2.0
PRODID:-//www.loftkoeln.de - ECPv5.14.2.1//NONSGML v1.0//EN
CALSCALE:GREGORIAN
METHOD:PUBLISH
X-WR-CALNAME:www.loftkoeln.de
X-ORIGINAL-URL:https://www.loftkoeln.de
X-WR-CALDESC:Veranstaltungen für www.loftkoeln.de
BEGIN:VTIMEZONE
TZID:Europe/Berlin
BEGIN:DAYLIGHT
TZOFFSETFROM:+0100
TZOFFSETTO:+0200
TZNAME:CEST
DTSTART:20260329T010000
END:DAYLIGHT
BEGIN:STANDARD
TZOFFSETFROM:+0200
TZOFFSETTO:+0100
TZNAME:CET
DTSTART:20261025T010000
END:STANDARD
END:VTIMEZONE
BEGIN:VEVENT
DTSTART;TZID=Europe/Berlin:20260419T200000
DTEND;TZID=Europe/Berlin:20260419T200000
DTSTAMP:20260423T125348
CREATED:20260227T063742Z
LAST-MODIFIED:20260423T065209Z
UID:32256-1776628800-1776628800@www.loftkoeln.de
SUMMARY:ENTFALLEN: Johansson / Jarret / Von Martens
DESCRIPTION:DAS KONZERT MUSS LEIDER KURZFRISTIG ENTFALLEN \n\n(english: see below) \nWeitere Informationen zu den Preisen\, Karten-Reservierungen und den Öffnungszeiten finden Sie hier.\n\n\n\n\n\n© Donovan Von Martens\nDrei Improvisationskünstler*innen aus Schweden und Frankreich kommen zusammen\, um zarte akustische Klanglandschaften zu schaffen\, in denen Stille\, Dialog und subtiles Zusammenspiel den Kern ihrer vom Mond inspirierten Improvisationen bilden. Ihr 2024 erschienenes Album Hémisphère/Hemisfär (Havtorn Records) präsentiert eine reichhaltige Klangpalette aus Gitarre\, Klavier und Kontrabass und lädt die Zuhörer zu intimen und atmosphärischen musikalischen Reisen ein. \nhttps://www.impra.se/en/karinjohansson \nhttps://www.pauljarret.com/ \nhttps://www.donovanvonmartens.com/ \n„Man hört Anklänge an den Minimalismus von Morton Feldman\, das freie Spiel von Derek Bailey\, den Impressionismus von Claude Debussy. Aber die Schärfe der Musik ist nicht das Ergebnis stilistischer Reinheit. Sie hat vielmehr mit der offenen und freien Haltung gegenüber dem gemeinsamen Musizieren zu tun.“\nMagnus Haglund\, Schriftsteller und Kritiker\, Göteborg \n„Hémisphère / Hemisfär“ lässt das beeindruckende und beeindruckende Werk dreier Musiker vermuten\, von denen jeder seine eigene musikalische Sprache hat und die sich voll und ganz der exquisiten Kunst des Augenblicks hingeben.“\nEyal Hareuveni für Salt Peanuts \n\nGefördert von:\n \n\nKlingt so: \n\n\n\n\n\nTHE CONCERT HAS TO BE CANCELLED ON SHORT NOTICE \n\nFurther information about prices\, ticket reservations and our opening times can be found here.\n\n\nThree improvisers from Sweden and France come together to create delicate acoustic soundscapes\, where silence\, dialogue\, and subtle interplay form the heart of their lunar-inspired improvisations. Their 2024 album Hémisphère/Hemisfär (Havtorn Records) showcases a rich tapestry of guitar\, piano\, and double bass\, inviting listeners into intimate and atmospheric musical journeys. \n„You can hear echoes from the minimalism of Morton Feldman\, the freeform playing of Derek Bailey\, the impressionism of Claude Debussy. But the sharpness of the music is not the result of stylistic purity. It is has to do with the open and free attitude to what it means to make music together.“\nMagnus Haglund\, writer and critic\, Gothenburg. \n„Hémisphère / Hemisfär suggests the impressive and commanding work of three musicians\, each one with his idiosyncratic musical language\, who are fully immersed in the exquisite art of the moment.“\nEyal Hareuveni for Salt Peanuts
URL:https://www.loftkoeln.de/event/johansson-jarret-von-martens/
END:VEVENT
END:VCALENDAR