BEGIN:VCALENDAR
VERSION:2.0
PRODID:-//www.loftkoeln.de - ECPv5.14.2.1//NONSGML v1.0//EN
CALSCALE:GREGORIAN
METHOD:PUBLISH
X-WR-CALNAME:www.loftkoeln.de
X-ORIGINAL-URL:https://www.loftkoeln.de
X-WR-CALDESC:Veranstaltungen für www.loftkoeln.de
BEGIN:VTIMEZONE
TZID:UTC
BEGIN:STANDARD
TZOFFSETFROM:+0000
TZOFFSETTO:+0000
TZNAME:UTC
DTSTART:20130101T000000
END:STANDARD
END:VTIMEZONE
BEGIN:VEVENT
DTSTART;TZID=UTC:20130112T203000
DTEND;TZID=UTC:20130112T203000
DTSTAMP:20260423T202335
CREATED:20171010T131827Z
LAST-MODIFIED:20171010T131827Z
UID:5395-1358022600-1358022600@www.loftkoeln.de
SUMMARY:Johannes Mössinger – Poetry
DESCRIPTION:Johannes Mössinger – piano \n\nDem Mainstream hat sich Johannes Mössinger nie hingegeben\, sondern vielmehr stets nach seinem eigenen Weg gesucht. Erfahrungen mit  Musikern der New Yorker Jazzszene\, aber auch mit vielen Projekten in Deutschland und Europa haben den Freiburger Pianisten geprägt. Vor 13 Jahren begann er seine Aufnahmetätigkeit mit der Solo-Platte “Spring in Versailles” und wenig später folgte die Zusammenarbeit mit Joe Lovano in New York \, wobei die CD Monk´s Corner entstand. Seither sind die bestimmenden Faktoren für den Künstler Johannes Mössinger sein New Yorker Ensemble mit Drummer Karl Latham und Kermit Driscoll\, seine Solo Konzerte\, seine Arbeit als Komponist und die Zusammenarbeit mit vielen Größen des Jazz wie z.B.: Joel Frahm\, Bob Malach\, Enrico Rava\, Calvin Jones\, Don Braden\, John Lee\, Seamus Blake\, Boris Kozlov\, Johannes Enders u.v.m..  Jetzt ist er wieder als Solist zu erleben: „Poetry“ heisst seine neue Aufnahme\, die beim Villinger HGBS-Label als CD\, aber auch als  Vinylplatte  erschien. \nwww.johannesmoessinger.com
URL:https://www.loftkoeln.de/event/johannes-mossinger-%e2%80%93-poetry/
END:VEVENT
END:VCALENDAR