BEGIN:VCALENDAR
VERSION:2.0
PRODID:-//www.loftkoeln.de - ECPv5.14.2.1//NONSGML v1.0//EN
CALSCALE:GREGORIAN
METHOD:PUBLISH
X-WR-CALNAME:www.loftkoeln.de
X-ORIGINAL-URL:https://www.loftkoeln.de
X-WR-CALDESC:Veranstaltungen für www.loftkoeln.de
BEGIN:VTIMEZONE
TZID:Europe/Berlin
BEGIN:DAYLIGHT
TZOFFSETFROM:+0100
TZOFFSETTO:+0200
TZNAME:CEST
DTSTART:20050327T010000
END:DAYLIGHT
BEGIN:STANDARD
TZOFFSETFROM:+0200
TZOFFSETTO:+0100
TZNAME:CET
DTSTART:20051030T010000
END:STANDARD
END:VTIMEZONE
BEGIN:VEVENT
DTSTART;TZID=Europe/Berlin:20051024T203000
DTEND;TZID=Europe/Berlin:20051024T203000
DTSTAMP:20260424T031452
CREATED:20240305T162310Z
LAST-MODIFIED:20240305T162354Z
UID:26448-1130185800-1130185800@www.loftkoeln.de
SUMMARY:JOEL HARRISON - MATTHIAS SCHUBERT - RALPH BEERKIRCHER:  “Harrison on Harisson”
DESCRIPTION:Matthias Schubert – ts.\nJoel Harrison – guit.\nRalph Beerkircher – guit. \nspielen Musik von George Harrison \n\nDer New Yorker Gitarrist Joel Harrison wird Stücke seiner letzten CD- Neuerscheinung „Harrison on Harrison“ (Highnote Label) vorstellen. Begleitet wird er hierbei von Matthias Schubert und Ralph Beerkircher. Joel Harrison´s \nArrangements sind überraschend\, eindringlich und erforschen die Musik des großen Musikers und Namensvettern der Beatles aus der improvisatorischen Perspektive. Neben diesen werden aber auch Kompositionen der vergangenen beiden auf dem ACT – Label veröffentlichten CD´s „Free Country“ und „So long Second Street“ gespielt.
URL:https://www.loftkoeln.de/event/joel-harrison-matthias-schubert-ralph-beerkircher-harrison-on-harisson/
END:VEVENT
END:VCALENDAR